BEGIN:VCALENDAR
VERSION:2.0
PRODID:-//AMSSA - ECPv6.15.18//NONSGML v1.0//EN
CALSCALE:GREGORIAN
METHOD:PUBLISH
X-ORIGINAL-URL:https://www.amssa.org
X-WR-CALDESC:Events for AMSSA
REFRESH-INTERVAL;VALUE=DURATION:PT1H
X-Robots-Tag:noindex
X-PUBLISHED-TTL:PT1H
BEGIN:VTIMEZONE
TZID:America/Denver
BEGIN:DAYLIGHT
TZOFFSETFROM:-0700
TZOFFSETTO:-0600
TZNAME:MDT
DTSTART:20190310T090000
END:DAYLIGHT
BEGIN:STANDARD
TZOFFSETFROM:-0600
TZOFFSETTO:-0700
TZNAME:MST
DTSTART:20191103T080000
END:STANDARD
BEGIN:DAYLIGHT
TZOFFSETFROM:-0700
TZOFFSETTO:-0600
TZNAME:MDT
DTSTART:20200308T090000
END:DAYLIGHT
BEGIN:STANDARD
TZOFFSETFROM:-0600
TZOFFSETTO:-0700
TZNAME:MST
DTSTART:20201101T080000
END:STANDARD
BEGIN:DAYLIGHT
TZOFFSETFROM:-0700
TZOFFSETTO:-0600
TZNAME:MDT
DTSTART:20210314T090000
END:DAYLIGHT
BEGIN:STANDARD
TZOFFSETFROM:-0600
TZOFFSETTO:-0700
TZNAME:MST
DTSTART:20211107T080000
END:STANDARD
END:VTIMEZONE
BEGIN:VEVENT
DTSTART;TZID=America/Denver:20200704T064500
DTEND;TZID=America/Denver:20200704T100000
DTSTAMP:20260421T103815
CREATED:20200925T224244Z
LAST-MODIFIED:20200925T224244Z
UID:16863-1593845100-1593856800@www.amssa.org
SUMMARY:Food Hamper Distribution
DESCRIPTION:Muslim Food Bank and Community Services is organizing a Food Hamper Distribution event. \nWhen: July 4\, 2020 from 6:45 am to 10 am\nWhere: 104 – 12941 115A Avenue\, Surrey\, BC V3R 0E2
URL:https://www.amssa.org/amssa-events/food-hamper-distribution/
ORGANIZER;CN="Muslim Food Bank and Community Services":MAILTO:contact@muslimfoodbank.com
END:VEVENT
BEGIN:VEVENT
DTSTART;TZID=America/Denver:20200706T100000
DTEND;TZID=America/Denver:20200706T123000
DTSTAMP:20260421T103815
CREATED:20200925T224241Z
LAST-MODIFIED:20200925T224241Z
UID:16858-1594029600-1594038600@www.amssa.org
SUMMARY:Becoming a White Antiracist: Virtual Talk with Dr. Ismaël Traoré
DESCRIPTION:Developing an antiracism perspective and practice is not an ordinary or definite outcome of living in a multicultural and multiracial society. It is an intentional and proactive process\, which develops in fits and starts\, and requires steadfast commitment. In this virtual talk\, Dr. Traoré will discuss the common stages involved in developing a white identity\, and the process\, challenges\, and breakthroughs in learning to be a white antiracist.\nThe focus of this event is not on racialized people’s experience with racism\, but on ‘whiteness’. While some participants may find this approach unlike conventional views and even challenging\, attendees are asked to keep an open mind and help create an atmosphere of intellectual curiosity\, exploration\, mutual respect\, and self-reflection. \nThis event is suitable for people who already accept the following truths:\na) racism exits\nb) it manifests in different ways\nc) its existence is independent of hate\nd) we live in a racialized society\, and\ne) we all are shaped and impacted by it in different ways \nDate: Monday July 6\, 2020\nTime: 10:00 am to 12:30 pm (PST)\nLocation: Online | You will receive the web link in an email from AMSSA Events  after registering. \nPlease Register HERE. \nThe deadline for registration for this event is Friday July 3rd\, 2020
URL:https://www.amssa.org/amssa-events/becoming-a-white-antiracist-virtual-talk-with-dr-ismael-traore/
END:VEVENT
BEGIN:VEVENT
DTSTART;TZID=America/Denver:20200708T100000
DTEND;TZID=America/Denver:20200708T120000
DTSTAMP:20260421T103815
CREATED:20200925T224242Z
LAST-MODIFIED:20200925T224242Z
UID:16859-1594202400-1594209600@www.amssa.org
SUMMARY:Tenants Rights Workshop During COVID-19
DESCRIPTION:Housingworkshop_Amal\nBurnaby Neighbourhood House is organizing a free workshop for newcomers by TRAC. The session will cover: \n\nRent increases (Rent Freeze)\nEviction Moratorium in effect for non payment of rent ONLY\nAll other eviction allowed as of July 2\nAccess to common areas\nAccess to common areas\nDirectors order: Emails not allowed anymore\nUpdate information on Government issues\n\nDate: Wednesday\, July 8th\, 2002.\nTime: 10 am- 12 pm Via Zoom. \nREGISTRATION IN ADVANCE REQUIRED Priority will go to PR holders\nFor registration\, please contact Amal Ballu at amalb@burnabynh.ca\nSession is in English LINC Level 5
URL:https://www.amssa.org/amssa-events/tenants-rights-workshop-during-covid-19/
END:VEVENT
BEGIN:VEVENT
DTSTART;TZID=America/Denver:20200709T130000
DTEND;TZID=America/Denver:20200709T150000
DTSTAMP:20260421T103815
CREATED:20200925T224245Z
LAST-MODIFIED:20200925T224245Z
UID:16865-1594299600-1594306800@www.amssa.org
SUMMARY:WorkBC Virtual Hiring Event
DESCRIPTION:WorkBC-Hiring Event-2020-07-09\nWorkBC Vancouver North East is pleased to host a online job fair with Alliance Maintenance and Express Employment Pros Vancouver.\nGet an exclusive chance to learn about Alliance Maintenance and Express Employment Professionals and participate in group introductions and Q&A \nDate: July 9\, 2020\nTime 1:00 PM – 3:30 PM PDT \nLocation: Online Event ( zoom) \nTo register go to: https://www.eventbrite.ca/e/online-job-fair-alliance-maintenance-and-express-employment-vancouver-registration-109717072718
URL:https://www.amssa.org/amssa-events/workbc-virtual-hiring-event/
END:VEVENT
BEGIN:VEVENT
DTSTART;TZID=America/Denver:20200711T093000
DTEND;TZID=America/Denver:20200711T103000
DTSTAMP:20260421T103815
CREATED:20200925T224242Z
LAST-MODIFIED:20200925T224242Z
UID:16861-1594459800-1594463400@www.amssa.org
SUMMARY:Property Ownership – Rights and Responsibilities
DESCRIPTION:Property Ownership – Rights and Responsibilities (Mandarin) 20200711-converted\nBurnaby Neighbourhood House is organizing a free workshop in Mandarin.  \nDates: Saturday July 11\, 2020\nTime: 9:30-10:30 am\nVenue: ZOOM (Invitation link will be sent after registration)\nGuest Speaker: Ted Chen\, PREC* \nREGISTRATION IN ADVANCE REQUIRED \nRegistration please contact:\nPhone: 236-877-2616\nEmail: nancyz@burnabynh.ca
URL:https://www.amssa.org/amssa-events/property-ownership-rights-and-responsibilities/
END:VEVENT
BEGIN:VEVENT
DTSTART;TZID=America/Denver:20200711T110000
DTEND;TZID=America/Denver:20200711T120000
DTSTAMP:20260421T103815
CREATED:20200925T224242Z
LAST-MODIFIED:20200925T224242Z
UID:16860-1594465200-1594468800@www.amssa.org
SUMMARY:Mortgage for Newcomers to Canada
DESCRIPTION:Mortgage for Newcomers to Canada (Mandarin) 20200711-converted\nBurnaby Neighbourhood House is organizing a free workshop in Mandarin.  \nDates: Saturday July 11\, 2020\nTime: 11:00 am-12:00 pm\nVenue: ZOOM (Invitation link will be sent after registration)\nGuest Speaker: Kenny Sun\, Mortgage Specialist \nREGISTRATION IN ADVANCE REQUIRED \nRegistration please contact:\nPhone: 236-877-2616\nEmail: nancyz@burnabynh.ca
URL:https://www.amssa.org/amssa-events/mortgage-for-newcomers-to-canada/
END:VEVENT
BEGIN:VEVENT
DTSTART;TZID=America/Denver:20200718T064500
DTEND;TZID=America/Denver:20200718T100000
DTSTAMP:20260421T103815
CREATED:20200925T224244Z
LAST-MODIFIED:20200925T224244Z
UID:16864-1595054700-1595066400@www.amssa.org
SUMMARY:Food Hamper Distribution
DESCRIPTION:Muslim Food Bank and Community Services is organizing a Food Hamper Distribution event. \nWhen: July 18\, 2020 from 6:45 am to 10 am\nWhere: 104 – 12941 115A Avenue\, Surrey\, BC V3R 0E2
URL:https://www.amssa.org/amssa-events/food-hamper-distribution-2/
ORGANIZER;CN="Muslim Food Bank and Community Services":MAILTO:contact@muslimfoodbank.com
END:VEVENT
BEGIN:VEVENT
DTSTART;TZID=America/Denver:20200719T150000
DTEND;TZID=America/Denver:20200719T160000
DTSTAMP:20260421T103815
CREATED:20200925T224242Z
LAST-MODIFIED:20200925T224242Z
UID:16862-1595170800-1595174400@www.amssa.org
SUMMARY:How to Sponsor Your Spouse\, Partner or Child
DESCRIPTION:Sponsor Your Spouse\, Partner or Child (Mandarin) 20200719-converted\nBurnaby Neighbourhood House is organizing a free workshop in Mandarin.  \nDates: Sunday July 19th\, 2020\nTime: 3:00-4:00 pm\nVenue: ZOOM (Invitation link will be sent after registration)\nGuest Speaker: Sandy Lian\, ICRC \nREGISTRATION IN ADVANCE REQUIRED \nRegistration please contact:\nPhone: 236-877-2616\nEmail: nancyz@burnabynh.ca
URL:https://www.amssa.org/amssa-events/how-to-sponsor-your-spouse-partner-or-child/
END:VEVENT
END:VCALENDAR