BEGIN:VCALENDAR
VERSION:2.0
PRODID:-//AMSSA - ECPv6.15.18//NONSGML v1.0//EN
CALSCALE:GREGORIAN
METHOD:PUBLISH
X-WR-CALNAME:AMSSA
X-ORIGINAL-URL:https://www.amssa.org
X-WR-CALDESC:Events for AMSSA
REFRESH-INTERVAL;VALUE=DURATION:PT1H
X-Robots-Tag:noindex
X-PUBLISHED-TTL:PT1H
BEGIN:VTIMEZONE
TZID:America/Denver
BEGIN:DAYLIGHT
TZOFFSETFROM:-0700
TZOFFSETTO:-0600
TZNAME:MDT
DTSTART:20180311T090000
END:DAYLIGHT
BEGIN:STANDARD
TZOFFSETFROM:-0600
TZOFFSETTO:-0700
TZNAME:MST
DTSTART:20181104T080000
END:STANDARD
BEGIN:DAYLIGHT
TZOFFSETFROM:-0700
TZOFFSETTO:-0600
TZNAME:MDT
DTSTART:20190310T090000
END:DAYLIGHT
BEGIN:STANDARD
TZOFFSETFROM:-0600
TZOFFSETTO:-0700
TZNAME:MST
DTSTART:20191103T080000
END:STANDARD
BEGIN:DAYLIGHT
TZOFFSETFROM:-0700
TZOFFSETTO:-0600
TZNAME:MDT
DTSTART:20200308T090000
END:DAYLIGHT
BEGIN:STANDARD
TZOFFSETFROM:-0600
TZOFFSETTO:-0700
TZNAME:MST
DTSTART:20201101T080000
END:STANDARD
END:VTIMEZONE
BEGIN:VEVENT
DTSTART;TZID=America/Denver:20190315T130000
DTEND;TZID=America/Denver:20190315T160000
DTSTAMP:20260419T190758
CREATED:20190316T225112Z
LAST-MODIFIED:20190316T225112Z
UID:12856-1552654800-1552665600@www.amssa.org
SUMMARY:Get Hired! An ISSofBC Job Fair
DESCRIPTION:
URL:https://www.amssa.org/amssa-events/get-hired-an-issofbc-job-fair/
LOCATION:ISSofBC Vancouver\, 501-333 Terminal Avenue\, Vancouver\, BC\, Canada
END:VEVENT
BEGIN:VEVENT
DTSTART;TZID=America/Denver:20190320T084500
DTEND;TZID=America/Denver:20190320T124500
DTSTAMP:20260419T190758
CREATED:20190316T225825Z
LAST-MODIFIED:20190316T225825Z
UID:12862-1553071500-1553085900@www.amssa.org
SUMMARY:It is not ME or YOU | It is US: An educational forum on discrimination and racism
DESCRIPTION:
URL:https://www.amssa.org/amssa-events/it-is-not-me-or-you-it-is-us-an-educational-forum-on-discrimination-and-racism/
LOCATION:Ismaili Centre Burnaby\, Social Hall\, 4010 Canada Way\, Burnaby\, BC\, V5G 1G8\, Canada
END:VEVENT
BEGIN:VEVENT
DTSTART;TZID=America/Denver:20190326T100000
DTEND;TZID=America/Denver:20190326T110000
DTSTAMP:20260419T190758
CREATED:20190322T002558Z
LAST-MODIFIED:20190322T002629Z
UID:12868-1553594400-1553598000@www.amssa.org
SUMMARY:AMSSA Webinar: Recognizing and Assisting Victims of Labour Trafficking
DESCRIPTION:Migrant workers contribute to the Canadian labour market and economy. However\, some migrant workers may be vulnerable to human trafficking for labour exploitation given their lack of knowledge of their rights in Canada\, inability to speak the language and isolation. Settlement and other frontline organizations can play a very important role in preventing labour trafficking as well as supporting the victims. \nThis webinar will provide management and frontline staff that work with temporary foreign workers with knowledge on how to recognize\, protect and assist migrant workers who may have been trafficked to Canada. \nEvent Details: \nDate: Tuesday\, March 26\, 2019\nTime: 10:00 AM – 11:00 AM (PST)\nLocation:Online \nPresenter: \nLarissa Maxwell\, Anti-Human Trafficking Programs\, The Salvation Army Canada \nTo register\, click here.
URL:https://www.amssa.org/amssa-events/amssa-webinar-recognizing-and-assisting-victims-of-labour-trafficking/
LOCATION:Online
END:VEVENT
BEGIN:VEVENT
DTSTART;TZID=America/Denver:20190329T120000
DTEND;TZID=America/Denver:20190329T133000
DTSTAMP:20260419T190758
CREATED:20190322T002907Z
LAST-MODIFIED:20190322T002907Z
UID:12870-1553860800-1553866200@www.amssa.org
SUMMARY:AMSSA Webinar: Reflections on Belonging\, Relationships\, and Responsibilities in Musqueam\, Squamish and Tsleil-Waututh Lands
DESCRIPTION:In this lunch and learn webinar\, cultural planner Kamala Todd will share her experience as a Metis-Cree living and working in the unceded territories of the Musqueam\, Squamish and Tseil-Waututh Nations\, and how to observe protocols in a territory different to that of her ancestors. \nBorn and raised in these lands\, she continually asks herself\, in her work and in the ways she lives and raises her children\, how she can address the colonialism of Vancouver and enact her own teachings of reciprocity and gratitude in finding ways to support the original owners of the lands. Kamala is currently the City of Vancouver’s Indigenous Arts and Culture planner\, and she has worked with the City for many years in various capacities\, including the Dialogues Project. \nKamala will talk about some of the current conversations and considerations about the work of “reconciliation” and decolonization\, and she will also address how those of us whose ancestors are elsewhere can work to repair the harms done to the ancestors of these lands and waters in this beautiful place we are so fortunate to live and work.  \nShe will place an emphasis on questions that people and organizations often have about how to begin\, like “Where do we start?” \nThis lunch and learn webinar is a preliminary conversation to the April 5th Symposium “Indigenous-Newcomers Relationships”: An Organizational Dialogue on Unsettling Practices that will be held in Vancouver. The Symposium will be available online. To register to the Symposium’s live broadcast click here.  \nWebinar Details: \nDate: Friday\, March 29\, 2019\nTime: 12:00 – 1:30 PM \nTo register\, click here. \nWe gratefully acknowledge the financial support of the Government of British Columbia through the Ministry of Tourism\, Arts and Culture Multiculturalism Grant
URL:https://www.amssa.org/amssa-events/amssa-webinar-reflections-on-belonging-relationships-and-responsibilities-in-musqueam-squamish-and-tsleil-waututh-lands/
LOCATION:online
END:VEVENT
BEGIN:VEVENT
DTSTART;TZID=America/Denver:20190405T083000
DTEND;TZID=America/Denver:20190405T130000
DTSTAMP:20260419T190758
CREATED:20190323T183942Z
LAST-MODIFIED:20190323T184443Z
UID:12899-1554453000-1554469200@www.amssa.org
SUMMARY:AMSSA Online Broadcast: "Indigenous-Newcomers Relationships": An Organizational Dialogue on  Unsettling Practices
DESCRIPTION:The Affiliation of Multicultural Societies and Service Agencies of BC (AMSSA)\, the British Columbia Institute of Technology’s (BCIT) Indigenous Initiatives and Partnerships\, and the City of Vancouver’s Vancouver Immigration Partnership (VIP)\, are pleased to invite you and/or designates to a symposium aimed at discussing how organizational leadership can be understood from a critical perspective to design and establish processes that build mindful relationships with Indigenous people and the unceded territories we all work on. \nThe symposium will be divided in 2 parts: \n\nCentering organizational leadership in relation to Indigenous presence and accountability to the Coast Salish Peoples and territories (keynote and panel discussion)\nExploring ideas for specific practice and for a workbook\n\nRegistration is required. \nThe symposium is open to anyone interested in learning and leading processes to establish relationships with Indigenous people in their organizations. Board members\, Executive Directors\, CEOs\, Program and Management Directors and similar leading roles are encouraged to attend. Networking opportunities at the end of the event. \nEvent Details: \nWhen: Friday\, April 5\, 2019 \nTime: 8:30 AM – 1:00 PM PST \nWhere: Online (live video broadcast). A link will be sent to you by April 4\, 2019.  \nThe registration deadline is April 3\, 2019. \nTo register to watch the broadcast online\, click here.
URL:https://www.amssa.org/amssa-events/amssa-online-broadcast-indigenous-newcomers-relationships-an-organizational-dialogue-on-unsettling-practices/
LOCATION:Online
END:VEVENT
BEGIN:VEVENT
DTSTART;TZID=America/Denver:20190407T130000
DTEND;TZID=America/Denver:20190407T150000
DTSTAMP:20260419T190758
CREATED:20190316T225438Z
LAST-MODIFIED:20190316T225552Z
UID:12859-1554642000-1554649200@www.amssa.org
SUMMARY:"The Caregiver Program"
DESCRIPTION:Join ISSofBC for an interactive discussion and learn about your options for permanent residence in regard to the Caregiver Program. \nTo register or for more information\, contact Lenn Castro at stmarysmigrant@gmail.com and Resochita Ama at resochita.arma@issbc.org
URL:https://www.amssa.org/amssa-events/the-caregiver-program/
LOCATION:Seminar Room\, School Gym\, St. Mary’s Parish\, 5239 Joyce Street\, Vancouver\, BC\, V5R 4G8\, Canada
END:VEVENT
BEGIN:VEVENT
DTSTART;TZID=America/Denver:20190415T103000
DTEND;TZID=America/Denver:20190415T123000
DTSTAMP:20260419T190758
CREATED:20190413T170945Z
LAST-MODIFIED:20190413T170945Z
UID:13065-1555324200-1555331400@www.amssa.org
SUMMARY:Safety Talk - About Scams (Chinese)
DESCRIPTION:
URL:https://www.amssa.org/amssa-events/safety-talk-about-scams-chinese/
LOCATION:BC
END:VEVENT
BEGIN:VEVENT
DTSTART;TZID=America/Denver:20190424T170000
DTEND;TZID=America/Denver:20190424T193000
DTSTAMP:20260419T190758
CREATED:20190410T211754Z
LAST-MODIFIED:20190410T211908Z
UID:13023-1556125200-1556134200@www.amssa.org
SUMMARY:The Social Impact Lab: Collaboratory Event Launch
DESCRIPTION:On April 24th\, CCEL will launch a new program called Collaboratory with an event titled “Social Impact Lab”. This event brings together community partners\, UBC students\, staff\, and faculty to celebrate past university-community collective actions and explore social issues in Vancouver. \nParticipants will also have the opportunity to join other passionate attendees to collaborate on a collective action project over the summer in one of the following areas: poverty reduction\, housing\, environmental sustainability\, mental health\, Black neighbourhood revitalization\, refugee settlement\, and healthy masculinity and non-violence from an Indigenous perspective. \nCommunity partners are invited to this event. Meet like-minded organizations\, network with UBC students and faculty\, engage with UBC on some of your organizational needs\, and inform CCEL on the social issues directly related to your industry. \nPlease share this event to your network and on your social media pages. \nWe hope you can join us. \nEvent Details:\nWhen: April 24\, 2019; 5:00-7:30pm\nWhere: Mt. Pleasant Neighbourhood House (800 East Broadway)\nRefreshments and catering will be served.\nRegister today as space is limited! Click here to register. \nIf you have any questions\, contact Sydney Kroes at sydney.kroes@ubc.ca \n  \n \n  \n 
URL:https://www.amssa.org/amssa-events/the-social-impact-lab-collaboratory-event-launch/
LOCATION:Mount Pleasant Neighbourhood House\, 800 E. Broadway \, Vancouver\, BC\, Canada
ORGANIZER;CN="Centre for Community Engaged Learning - UBC":MAILTO:community.learning@ubc.ca
END:VEVENT
BEGIN:VEVENT
DTSTART;TZID=America/Denver:20190430T180000
DTEND;TZID=America/Denver:20190430T193000
DTSTAMP:20260419T190758
CREATED:20190410T202235Z
LAST-MODIFIED:20190410T202235Z
UID:13020-1556647200-1556652600@www.amssa.org
SUMMARY:Citizenship Application process (in Russian)
DESCRIPTION:Join ISSofBC for the Citizenship Application process\, an interactive discussion.
URL:https://www.amssa.org/amssa-events/citizenship-application-process-in-russian/
LOCATION:Welcome Centre – ISSofBC\, 2610 Victoria Drive \, Vancouver \, BC\, Canada
END:VEVENT
BEGIN:VEVENT
DTSTART;TZID=America/Denver:20190514T173000
DTEND;TZID=America/Denver:20190514T193000
DTSTAMP:20260419T190758
CREATED:20190510T230428Z
LAST-MODIFIED:20190510T230428Z
UID:13308-1557855000-1557862200@www.amssa.org
SUMMARY:Parenting Matters: Stress and Anxiety Effects in the Family
DESCRIPTION:Mount Pleasant Neighbourhood House presents Parenting Matters: Stress and Anxiety Effects in the Family.
URL:https://www.amssa.org/amssa-events/parenting-matters-stress-and-anxiety-effects-in-the-family/
LOCATION:Mount Pleasant Neighbourhood House\, 800 E. Broadway \, Vancouver\, BC\, Canada
END:VEVENT
BEGIN:VEVENT
DTSTART;TZID=America/Denver:20190530T100000
DTEND;TZID=America/Denver:20190530T120000
DTSTAMP:20260419T190758
CREATED:20190524T211531Z
LAST-MODIFIED:20190524T211749Z
UID:13393-1559210400-1559217600@www.amssa.org
SUMMARY:Foreign Credential Recognition (FCR) Loan Program - Free Information Session
DESCRIPTION:Join Progressive Intercultural Community Services Society (PICS) for the Foreign Credential Recognition (FCR) Loan Program Information Session!
URL:https://www.amssa.org/amssa-events/foreign-credential-recognition-fcr-loan-program-free-information-session/
LOCATION:Progressive Intercultural Community Services Society – Vancouver\, 200 - 8153 Main Street\, Vancouver\, BC\, V5X 3L2\, Canada
END:VEVENT
BEGIN:VEVENT
DTSTART;TZID=America/Denver:20190531T133000
DTEND;TZID=America/Denver:20190531T153000
DTSTAMP:20260419T190758
CREATED:20190524T210846Z
LAST-MODIFIED:20190524T210846Z
UID:13385-1559309400-1559316600@www.amssa.org
SUMMARY:WorkBC Job Fair
DESCRIPTION:Join the Vancouver North East WorkBC Centre for the WorkBC Job Fair!
URL:https://www.amssa.org/amssa-events/workbc-job-fair/
LOCATION:WorkBC Vancouver Northeast\, Unit 312 - 2555 Commercial Drive\, Vancouver\, BC\, V5N4C1\, Canada
END:VEVENT
BEGIN:VEVENT
DTSTART;TZID=America/Denver:20190607T123000
DTEND;TZID=America/Denver:20190607T153000
DTSTAMP:20260419T190758
CREATED:20190524T211034Z
LAST-MODIFIED:20190524T211034Z
UID:13389-1559910600-1559921400@www.amssa.org
SUMMARY:Prepare for a Career in Banking
DESCRIPTION:Join ISSofBC for an event by women for women: Prepare for a Career in Banking.
URL:https://www.amssa.org/amssa-events/prepare-for-a-career-in-banking/
LOCATION:Coquitlam Public Library- City Centre\, 1169 Pinetree Way\,\, Coquitlam\, BC\, V3B 0Y1\, Canada
END:VEVENT
BEGIN:VEVENT
DTSTART;TZID=America/Denver:20190612T090000
DTEND;TZID=America/Denver:20190612T120000
DTSTAMP:20260419T190758
CREATED:20190510T230251Z
LAST-MODIFIED:20190510T230251Z
UID:13306-1560330000-1560340800@www.amssa.org
SUMMARY:You have rights! Workshop: Rights & Responsibilities
DESCRIPTION:MOSAIC and the Progressive Intercultural Community Services Society (PICS) presents a workshop on rights and responsibilities for Temporary Migrant Foreign Workers.
URL:https://www.amssa.org/amssa-events/you-have-rights-workshop-rights-responsibilities/
LOCATION:Progressive Intercultural Community Services\, #205 - 12725 80th Avenue\, Surrey\, BC\, Canada
END:VEVENT
BEGIN:VEVENT
DTSTART;TZID=America/Denver:20190615T083000
DTEND;TZID=America/Denver:20190615T160000
DTSTAMP:20260419T190758
CREATED:20190607T224013Z
LAST-MODIFIED:20190607T235118Z
UID:13450-1560587400-1560614400@www.amssa.org
SUMMARY:The Art Of Facilitation
DESCRIPTION:Be prepared to join “The Art Of Facilitation” hosted by Beyond the Conversation to have fun\, talk about empowerment and how to make a difference. 
URL:https://www.amssa.org/amssa-events/13450/
LOCATION:Knox United Church\, 5600 Balaclava St.\,\, Vancouver\, British Columbia\, V6N 1L1\, Canada
END:VEVENT
BEGIN:VEVENT
DTSTART;TZID=America/Denver:20190616T130000
DTEND;TZID=America/Denver:20190616T150000
DTSTAMP:20260419T190758
CREATED:20190524T211919Z
LAST-MODIFIED:20190524T211919Z
UID:13397-1560690000-1560697200@www.amssa.org
SUMMARY:Family Sponsorship
DESCRIPTION:Join ISSofBC’s Settlement Program in collaboration with St. Mary’s Migrant Ministry for the Family Sponsorship workshop!
URL:https://www.amssa.org/amssa-events/family-sponsorship/
LOCATION:Seminar Room\, School Gym\, St. Mary’s Parish\, 5239 Joyce Street\, Vancouver\, BC\, V5R 4G8\, Canada
END:VEVENT
BEGIN:VEVENT
DTSTART;TZID=America/Denver:20190618T090000
DTEND;TZID=America/Denver:20190618T110000
DTSTAMP:20260419T190758
CREATED:20190610T192459Z
LAST-MODIFIED:20190610T192549Z
UID:13495-1560848400-1560855600@www.amssa.org
SUMMARY:AMSSA Webinar - Alcohol and Drug Use: Supporting Migrant Workers Who are Facing Addiction
DESCRIPTION:Due to the stigma and negative connotations linked to alcohol and drug addiction\, it is difficult for many users to accept they have a problem. Consuming excessive amounts of alcohol and drugs can have adverse health impacts\, the effects may last long and can cause permanent damage. Isolation\, family separation and anxiety associated to living in a foreign country\, among other factors\, can put migrant workers at risk of facing alcohol and drug addiction. For this reason\, it is important for people who are involved in supporting workers’ adaptation to Canada\, to be aware of the signs of addiction\, learn about the effects and rehabilitation options available to them. \nThis webinar will provide organizations\, unions\, employers and individuals in general\, knowledge on how to identify and support migrant workers who may be facing an addiction. \nEvent Detail \nDate: Tuesday\, June 18\, 2019\nTime: 9:00 am to 11:00 am (PST)\nLocation: Online \nPresenter: \nGerald Thomas\, Director\, Alcohol\, Tobacco\, Cannabis and Gambling Policy and Prevention\, Ministry of Health \nVarinder Kamboj\, Substance Use Counsellor\, DIVERSEcity Community Resources Society \nTo register click here
URL:https://www.amssa.org/amssa-events/amssa-webinar-alcohol-and-drug-use-supporting-migrant-workers-who-are-facing-addiction/
LOCATION:Online
END:VEVENT
BEGIN:VEVENT
DTSTART;TZID=America/Denver:20190622T143000
DTEND;TZID=America/Denver:20190622T193000
DTSTAMP:20260419T190758
CREATED:20190613T215011Z
LAST-MODIFIED:20190613T215011Z
UID:13530-1561213800-1561231800@www.amssa.org
SUMMARY:Community Connections Food Programs
DESCRIPTION:Come and learn hands-on skills by helping to prepare a traditional authentic Arabic dinner. Make new friends and connect with neighbors wile learning about Arabic life\, music and culture.  \nEvent Details: \nWhen: Saturday\, June 22\, 2019 \nTime: 2:30 – 7:30 PM PST \nWhere: 800 East Broadway\, Vancouver. 
URL:https://www.amssa.org/amssa-events/community-connections-food-programs/
LOCATION:800 East Broadway Vancouver\, 800 East Broadway\, Vancouver\, British Columbia\, V5T 1Y1\, Canada
END:VEVENT
BEGIN:VEVENT
DTSTART;TZID=America/Denver:20190625T100000
DTEND;TZID=America/Denver:20190625T113000
DTSTAMP:20260419T190758
CREATED:20190610T172210Z
LAST-MODIFIED:20190614T172504Z
UID:13488-1561456800-1561462200@www.amssa.org
SUMMARY:AMSSA Webinar: Exploring Online Service Delivery\, Principles & Practices
DESCRIPTION:As digital technology use in settlement and integration education increases\, more training is beneficial. This webinar will help settlement teams understand the benefits and multiple approaches to online learning\, as well as stay current on research and available supports. \nEvent Details: \nDate: Tuesday\, June 25\, 2019\nTime: 10:00 am to 11:30 am (PDT)\nLocation: Online | You will receive the web link via email after registering \nPresenters: \nRob McBride\, LearnIT2teach Project Manager of Administration and Communication\, Executive Director of New Language Solutions \nOlga Kanapelka\, Curriculum Developer at Immigrant Services Society of BC\, LINC instructor for classroom and online platforms \nDr. Suzanne Smythe\, Associate Professor at the Faculty of Education at Simon Fraser University\, a board member of Éducacentre\, and a member of the Downtown eastside and burnaby now literacy roundtables \nClick below for more information
URL:https://www.amssa.org/amssa-events/amssa-webinar-exploring-online-service-delivery-principles-practices/
LOCATION:Online
END:VEVENT
BEGIN:VEVENT
DTSTART;TZID=America/Denver:20190627T180000
DTEND;TZID=America/Denver:20190627T210000
DTSTAMP:20260419T190758
CREATED:20190410T212307Z
LAST-MODIFIED:20190410T212307Z
UID:13027-1561658400-1561669200@www.amssa.org
SUMMARY:Sunset Picnic at Vanier Park
DESCRIPTION:Pack your picnic baskets and bring your favourite cultural dishes to bond with neighbours over food\, inter-cultural music and performances at this free event celebrating Vancouver’s diversity!
URL:https://www.amssa.org/amssa-events/sunset-picnic-at-vanier-park/
LOCATION:Vanier Park\, 1000 Chestnut Street\, Vancouver\, BC\, V6J 3J9\, Canada
END:VEVENT
BEGIN:VEVENT
DTSTART;TZID=America/Denver:20190628T133000
DTEND;TZID=America/Denver:20190628T153000
DTSTAMP:20260419T190758
CREATED:20190627T083200Z
LAST-MODIFIED:20190627T083200Z
UID:13580-1561728600-1561735800@www.amssa.org
SUMMARY:Find your next employer at Work BC Job Fair
DESCRIPTION:Careers in IT\, Retail and Health industry awaits for you at WorkBC. \nClick here for more information
URL:https://www.amssa.org/amssa-events/find-your-next-employer-at-work-bc-job-fair/
LOCATION:312-2555\, 312-2555 Commercial Drive\, Vancouver\, British Columbia\, V5N 4C2\, Canada
END:VEVENT
BEGIN:VEVENT
DTSTART;TZID=America/Denver:20190701T100000
DTEND;TZID=America/Denver:20190701T160000
DTSTAMP:20260419T190758
CREATED:20190607T221820Z
LAST-MODIFIED:20190607T235525Z
UID:13446-1561975200-1561996800@www.amssa.org
SUMMARY:Canada Day Drumming Celebration
DESCRIPTION:Following the Canada Day Drumming Celebration\, the legacy 150 Celebration Society is excited to showcase the 3rd annual Canada Day Drumming Celebration! \nGo to the Canada Day Drumming Celebration website for information on the event in your community! \nBC communities include: \n\nVancouver\nKamloops\nKelowna\nPrince George\n\n  \nClick here for the official poster
URL:https://www.amssa.org/amssa-events/13446/
LOCATION:Creek Side Park\, Creek Side Park\, 1455 Quebec St\,\, Vancouver\, BC\, BC\, V6A3Z7\, Canada
END:VEVENT
BEGIN:VEVENT
DTSTART;TZID=America/Denver:20190704T130000
DTEND;TZID=America/Denver:20190704T153000
DTSTAMP:20260419T190758
CREATED:20190627T081924Z
LAST-MODIFIED:20190627T081924Z
UID:13575-1562245200-1562254200@www.amssa.org
SUMMARY:Prepare For Career in Food Industry
DESCRIPTION:An event by women for women. The food industry is more than restaurants and grocery stores. ISSofBC is hosting a workshop for women who have permanent residents status.\nClick here for more information
URL:https://www.amssa.org/amssa-events/prepare-for-career-in-food-industry/
LOCATION:280-610\, 280-610 Sixth Street\, New West Minister\, British Columbia\, Canada
END:VEVENT
BEGIN:VEVENT
DTSTART;TZID=America/Denver:20190705T110000
DTEND;TZID=America/Denver:20190705T183000
DTSTAMP:20260419T190758
CREATED:20190524T213257Z
LAST-MODIFIED:20190524T213326Z
UID:13402-1562324400-1562351400@www.amssa.org
SUMMARY:Golf Fore CCS
DESCRIPTION:Chilliwack Community Services presents its 6th annual Golfe Fore CCS on July 5th! \nThis is a fun charitable tournament. Enjoy a round of golf\, BBQ steak dinner\, hole in one competition\, Longest Drive and Closest to the Pin Contests\, on course snacks and beverages\, prizes and much more! Cost is $150 per competitor. \nAll funds raised at this event will support programs in need\, including early years\, families\, immigrants\, seniors and youth. 100% of monies raised stay in Chilliwack and will benefit residents from “twinkle to twilight.” \nWhen: Friday\, July 5th\, 2019\nTime: 11:00 AM – 6:30 PM \nTo register\, go here: https://chilliwack-golf-club.golfems2.com/event/2019-chilliwack-gc-golf-fore-ccs \nTo sponsor CCS\, send a completed sponsorship form to Shirley. \nAny questions or for more information\, please contact Shirley triemstras@comserv.bc.ca or 604-793-7221
URL:https://www.amssa.org/amssa-events/golf-fore-ccs-2/
LOCATION:Chilliwack Golf Club\, 41894 Yale Road\, Chilliwack\, BC\, Canada
END:VEVENT
BEGIN:VEVENT
DTSTART;TZID=America/Denver:20190705T130000
DTEND;TZID=America/Denver:20190705T170000
DTSTAMP:20260419T190758
CREATED:20190630T113557Z
LAST-MODIFIED:20190630T113557Z
UID:13621-1562331600-1562346000@www.amssa.org
SUMMARY:Richmond Multicultural Community Services Hiring Fair
DESCRIPTION:Explore new opportunities and meet local employees\nClick below for more information
URL:https://www.amssa.org/amssa-events/richmond-multicultural-community-services-hiring-fair/
LOCATION:road office\, RMCS\, NO.3 Road Office 220-4351\, Richmond\, BC\, Canada
END:VEVENT
BEGIN:VEVENT
DTSTART;TZID=America/Denver:20190710T100000
DTEND;TZID=America/Denver:20190710T120000
DTSTAMP:20260419T190758
CREATED:20190613T215644Z
LAST-MODIFIED:20190613T215744Z
UID:13535-1562752800-1562760000@www.amssa.org
SUMMARY:Settlement Program: Community Policing Workshop
DESCRIPTION:Community Policing is offering the Settlement Program for newcomers. In this program you will learn about various elements to be safe such as: How to identify telephone and internet scam\, crime prevention\, safety at home.  \n\n\nEvent Details: \nWhen: Wednesday\, July 10\, 2019 \nTime: 10:00 AM – 12:00 PM PST \nWhere: Kiwassa Neighbourhood House.  \n\n\nClick below for more information
URL:https://www.amssa.org/amssa-events/13535/
LOCATION:Kiwassa Neighbourhood House\, 2425 Oxford Street\, Vancouver\, BC\, Canada
END:VEVENT
BEGIN:VEVENT
DTSTART;TZID=America/Denver:20190711T100000
DTEND;TZID=America/Denver:20190711T120000
DTSTAMP:20260419T190758
CREATED:20190627T171756Z
LAST-MODIFIED:20190627T171838Z
UID:13597-1562839200-1562846400@www.amssa.org
SUMMARY:AMSSA Webinar: Access to Health Care for Migrant Workers
DESCRIPTION:The health of migrant workers is important. Workplace insurance or public health insurance can help them when they are sick or injured. The type of medical insurance can vary depending on the Temporary Foreign Worker Program stream. \nHow does each form of medical insurance work? How can migrant workers access medical services? These are some of the questions that will be addressed by expert speakers in this webinar. \nJoin us on July 11th for a webinar to learn more on this topic. \nEvent details \nDate: July 11\, 2019\nTime: 10:00 AM – 12:00 PM (PDT) \nClick here to register. \nSpeakers: \nApril Sabourin – Cowan Insurance Group\nShaina Schafers – Umbrella Multicultural Health Co-op\nVirendra Sharma – Fraser Health Authority
URL:https://www.amssa.org/amssa-events/amssa-webinar-access-to-health-care-for-migrant-workers/
LOCATION:Online
END:VEVENT
BEGIN:VEVENT
DTSTART;TZID=America/Denver:20190725T100000
DTEND;TZID=America/Denver:20190725T120000
DTSTAMP:20260419T190758
CREATED:20190719T221805Z
LAST-MODIFIED:20190719T222228Z
UID:13757-1564048800-1564056000@www.amssa.org
SUMMARY:Canadian Citizenship – Understanding the application process
DESCRIPTION:Kiwassa Neighbourhood House is offering Canadian Citizenship – Understanding the application process (English with Chinese assistance). \nEvent Details: \nWhen: Thursday\, July 25\, 2019 \nTime: 10:00 AM – 12:00 PM PST \nWhere: Kiwassa Neighbourhood House.
URL:https://www.amssa.org/amssa-events/13757/
LOCATION:Kiwassa Neighbourhood House\, 2425 Oxford Street\, Vancouver\, BC\, Canada
END:VEVENT
BEGIN:VEVENT
DTSTART;TZID=America/Denver:20190816T100000
DTEND;TZID=America/Denver:20190816T150000
DTSTAMP:20260419T190758
CREATED:20190806T225813Z
LAST-MODIFIED:20190806T230452Z
UID:13840-1565949600-1565967600@www.amssa.org
SUMMARY:Kin’s Farm Market Hiring Fair
DESCRIPTION:ISSofBC is pleased to host Kin’s Farm Market Hiring Fair on August 16th. \nEvent Details: \nTime: 10:00 AM – 3:00 PM\nWhere: Room 101\, Welcome Centre\, 2610 Victoria Drive\, Vancouver\, BC\, V5N 4L2 \nRegister at https://www.eventbrite.ca/e/kins-farm-market-hiring-fair-tickets-66609738521 or contact vanessa.lee@issbc.org\, 604-684-3599 ext. 1628 \n2019-8-16 Kin’s Farm Market Hiring fair
URL:https://www.amssa.org/amssa-events/kins-farm-market-hiring-fair/
LOCATION:Welcome Centre – ISSofBC\, 2610 Victoria Drive \, Vancouver \, BC\, Canada
END:VEVENT
BEGIN:VEVENT
DTSTART;TZID=America/Denver:20190822T100000
DTEND;TZID=America/Denver:20190822T120000
DTSTAMP:20260419T190758
CREATED:20190819T221041Z
LAST-MODIFIED:20190819T223438Z
UID:13955-1566468000-1566475200@www.amssa.org
SUMMARY:Understanding benefits available for new parents (English with Spanish assistance)
DESCRIPTION:Kiwassa Neighbourhood House is offering Free workshop for New Comers ( workshop 1 of 2) – Understanding benefits available for new parents (English with Spanish assistance). \nEvent Details: \nWhen: Thursday\, August 22\, 2019 \nTime: 10:00 AM – 12:00 PM PST \nWhere: Kiwassa Neighbourhood House.
URL:https://www.amssa.org/amssa-events/understanding-benefits-available-for-new-parents-english-with-spanish-assistance/
LOCATION:Kiwassa Neighbourhood House\, 2425 Oxford Street\, Vancouver\, BC\, Canada
END:VEVENT
END:VCALENDAR