BEGIN:VCALENDAR
VERSION:2.0
PRODID:-//AMSSA - ECPv6.15.18//NONSGML v1.0//EN
CALSCALE:GREGORIAN
METHOD:PUBLISH
X-ORIGINAL-URL:https://www.amssa.org
X-WR-CALDESC:Events for AMSSA
REFRESH-INTERVAL;VALUE=DURATION:PT1H
X-Robots-Tag:noindex
X-PUBLISHED-TTL:PT1H
BEGIN:VTIMEZONE
TZID:America/Vancouver
BEGIN:DAYLIGHT
TZOFFSETFROM:-0800
TZOFFSETTO:-0700
TZNAME:PDT
DTSTART:20250309T100000
END:DAYLIGHT
BEGIN:STANDARD
TZOFFSETFROM:-0700
TZOFFSETTO:-0800
TZNAME:PST
DTSTART:20251102T090000
END:STANDARD
BEGIN:DAYLIGHT
TZOFFSETFROM:-0800
TZOFFSETTO:-0700
TZNAME:PDT
DTSTART:20260308T100000
END:DAYLIGHT
BEGIN:STANDARD
TZOFFSETFROM:-0700
TZOFFSETTO:-0800
TZNAME:PST
DTSTART:20261101T090000
END:STANDARD
BEGIN:DAYLIGHT
TZOFFSETFROM:-0800
TZOFFSETTO:-0700
TZNAME:PDT
DTSTART:20270314T100000
END:DAYLIGHT
BEGIN:STANDARD
TZOFFSETFROM:-0700
TZOFFSETTO:-0800
TZNAME:PST
DTSTART:20271107T090000
END:STANDARD
END:VTIMEZONE
BEGIN:VEVENT
DTSTART;TZID=America/Vancouver:20260427T100000
DTEND;TZID=America/Vancouver:20260427T120000
DTSTAMP:20260425T031749
CREATED:20260423T215404Z
LAST-MODIFIED:20260423T215404Z
UID:49814-1777284000-1777291200@www.amssa.org
SUMMARY:Newcomer employment workshop: why am I not getting interviews?
DESCRIPTION:Covers common résumé and job‑search mistakes and how to improve interview outcomes \n– Date: Monday\, 27 April 2026 | Time: 10:00 AM–12:00 PM\n– Location: PICS Surrey Head Office (in person)\n– Languages: English\, Punjabi\, Hindi \n👉 Register: click here
URL:https://www.amssa.org/amssa-events/newcomer-employment-workshop-why-am-i-not-getting-interviews/
LOCATION:PICS Society Head Office\, #205 - 12725 80th Avenue Surrey\, BC\, V3W 3A6\, Surrey\, V3W 3A6\, Canada
ATTACH;FMTTYPE=image/png:https://www.amssa.org/wp-content/uploads/2026/04/PICS_Workshop_01_Flyer_FINAL.png
END:VEVENT
END:VCALENDAR