BEGIN:VCALENDAR
VERSION:2.0
PRODID:-//AMSSA - ECPv6.15.18//NONSGML v1.0//EN
CALSCALE:GREGORIAN
METHOD:PUBLISH
X-WR-CALNAME:AMSSA
X-ORIGINAL-URL:https://www.amssa.org
X-WR-CALDESC:Events for AMSSA
REFRESH-INTERVAL;VALUE=DURATION:PT1H
X-Robots-Tag:noindex
X-PUBLISHED-TTL:PT1H
BEGIN:VTIMEZONE
TZID:America/Vancouver
BEGIN:DAYLIGHT
TZOFFSETFROM:-0800
TZOFFSETTO:-0700
TZNAME:PDT
DTSTART:20140309T100000
END:DAYLIGHT
BEGIN:STANDARD
TZOFFSETFROM:-0700
TZOFFSETTO:-0800
TZNAME:PST
DTSTART:20141102T090000
END:STANDARD
BEGIN:DAYLIGHT
TZOFFSETFROM:-0800
TZOFFSETTO:-0700
TZNAME:PDT
DTSTART:20150308T100000
END:DAYLIGHT
BEGIN:STANDARD
TZOFFSETFROM:-0700
TZOFFSETTO:-0800
TZNAME:PST
DTSTART:20151101T090000
END:STANDARD
BEGIN:DAYLIGHT
TZOFFSETFROM:-0800
TZOFFSETTO:-0700
TZNAME:PDT
DTSTART:20160313T100000
END:DAYLIGHT
BEGIN:STANDARD
TZOFFSETFROM:-0700
TZOFFSETTO:-0800
TZNAME:PST
DTSTART:20161106T090000
END:STANDARD
END:VTIMEZONE
BEGIN:VEVENT
DTSTART;TZID=America/Vancouver:20150916T090000
DTEND;TZID=America/Vancouver:20150916T120000
DTSTAMP:20260425T212737
CREATED:20150904T180648Z
LAST-MODIFIED:20150904T180739Z
UID:3177-1442394000-1442404800@www.amssa.org
SUMMARY:Basic Job Search & Job Prep Workshops - Orientation
DESCRIPTION:PICS Basic Job Search Strategies & Job Prep Workshops – Free Orientation Session \nWhen: September 16\, 2015 from 9:00am – 12:00pm \nWhere: #205 – 12725 80th Avenue\, Surrey BC \nPlease register with Eva Touzard or Tamam Hasan at 604-596-7722 \nEligibility: Permanent Residents of Canada \nView the event poster here.
URL:https://www.amssa.org/amssa-events/basic-job-search-job-prep-workshops-orientation/
LOCATION:Progressive Intercultural Community Services\, #205 - 12725 80th Avenue\, Surrey\, BC\, Canada
END:VEVENT
BEGIN:VEVENT
DTSTART;TZID=America/Vancouver:20150911T100000
DTEND;TZID=America/Vancouver:20150911T130000
DTSTAMP:20260425T212737
CREATED:20150828T205236Z
LAST-MODIFIED:20150828T221431Z
UID:3110-1441965600-1441976400@www.amssa.org
SUMMARY:Women's Health Awareness Month Activities
DESCRIPTION:Join free workshops and a nutrition tour for immigrant and refugee women at the Immigrant Women’s Peer Support Program. \nWhen: Fridays\, September 11 – 25\, 2015 from 10:00 am – 1:00 pm \nLearn more here.
URL:https://www.amssa.org/amssa-events/womens-health-awareness-month-activities/
LOCATION:ISSofBC Coquitlam\, Cottonwood\, 201 - 504 Cottonwood Avenue\, Coquitlam\, BC\, Canada
END:VEVENT
BEGIN:VEVENT
DTSTART;TZID=America/Vancouver:20150908T100000
DTEND;TZID=America/Vancouver:20150908T113000
DTSTAMP:20260425T212737
CREATED:20150827T233236Z
LAST-MODIFIED:20150828T220019Z
UID:3107-1441706400-1441711800@www.amssa.org
SUMMARY:Sing and Grow
DESCRIPTION:A program for parents with children 0-12 months old.\nTuesdays\, September 8 – October 13\, 2015 from 10:00am – 11:30am.
URL:https://www.amssa.org/amssa-events/sing-and-grow/
LOCATION:Creekside Community Recreation Centre\, 1 Athletes Way\, Vancouver\, BC\, Canada
END:VEVENT
BEGIN:VEVENT
DTSTART;TZID=America/Vancouver:20150904T110000
DTEND;TZID=America/Vancouver:20150904T130000
DTSTAMP:20260425T212737
CREATED:20150828T220709Z
LAST-MODIFIED:20150828T220709Z
UID:3117-1441364400-1441371600@www.amssa.org
SUMMARY:Impact Mentorship Program
DESCRIPTION:For newcomer men and women with professional foreign community and social service experience. \nYou will: \n\nLearn about Canadian community work and systems\nPractice workplace English\nHave access to networking opportunities\nMake connections with professional and institutions\nImprove access to work opportunities related to your interest and foreign training experience\n\nNext information session: \nSeptember 4th\, 2015 from 11:00 am – 1:00 pm \nLearn more here.
URL:https://www.amssa.org/amssa-events/impact-mentorship-program/
LOCATION:Mount Pleasant Neighbourhood House\, 800 E. Broadway \, Vancouver\, BC\, Canada
ORGANIZER;CN="Lamin":MAILTO:lkassama@mpnh.org
END:VEVENT
BEGIN:VEVENT
DTSTART;TZID=America/Vancouver:20150828T100000
DTEND;TZID=America/Vancouver:20150828T113000
DTSTAMP:20260425T212737
CREATED:20150827T232849Z
LAST-MODIFIED:20150827T232927Z
UID:3105-1440756000-1440761400@www.amssa.org
SUMMARY:Play n' Sing at the Park
DESCRIPTION:
URL:https://www.amssa.org/amssa-events/play-n-sing-at-the-park/
LOCATION:Robson Park\, BC\, Canada
END:VEVENT
END:VCALENDAR