BEGIN:VCALENDAR
VERSION:2.0
PRODID:-//AMSSA - ECPv6.15.18//NONSGML v1.0//EN
CALSCALE:GREGORIAN
METHOD:PUBLISH
X-WR-CALNAME:AMSSA
X-ORIGINAL-URL:https://www.amssa.org
X-WR-CALDESC:Events for AMSSA
REFRESH-INTERVAL;VALUE=DURATION:PT1H
X-Robots-Tag:noindex
X-PUBLISHED-TTL:PT1H
BEGIN:VTIMEZONE
TZID:America/Denver
BEGIN:DAYLIGHT
TZOFFSETFROM:-0700
TZOFFSETTO:-0600
TZNAME:MDT
DTSTART:20200308T090000
END:DAYLIGHT
BEGIN:STANDARD
TZOFFSETFROM:-0600
TZOFFSETTO:-0700
TZNAME:MST
DTSTART:20201101T080000
END:STANDARD
BEGIN:DAYLIGHT
TZOFFSETFROM:-0700
TZOFFSETTO:-0600
TZNAME:MDT
DTSTART:20210314T090000
END:DAYLIGHT
BEGIN:STANDARD
TZOFFSETFROM:-0600
TZOFFSETTO:-0700
TZNAME:MST
DTSTART:20211107T080000
END:STANDARD
BEGIN:DAYLIGHT
TZOFFSETFROM:-0700
TZOFFSETTO:-0600
TZNAME:MDT
DTSTART:20220313T090000
END:DAYLIGHT
BEGIN:STANDARD
TZOFFSETFROM:-0600
TZOFFSETTO:-0700
TZNAME:MST
DTSTART:20221106T080000
END:STANDARD
END:VTIMEZONE
BEGIN:VEVENT
DTSTART;TZID=America/Denver:20210624T193000
DTEND;TZID=America/Denver:20210624T203000
DTSTAMP:20260422T163525
CREATED:20210617T195222Z
LAST-MODIFIED:20210617T200401Z
UID:19526-1624563000-1624566600@www.amssa.org
SUMMARY:Renting a Place in BC
DESCRIPTION:Burnaby Neighborhood House is organizing a Workshop on Renting in BC for Chinese newcomers. \nDate: June 24\,2021\nTime: 19:30\nService in Mandarin: 236-877-2616\nFor registration and more information\, please contact Dali Qu\, our Settlement Case Manager Here.
URL:https://www.amssa.org/amssa-events/renting-a-place-in-bc/
LOCATION:British Columbia
END:VEVENT
BEGIN:VEVENT
DTSTART;TZID=America/Denver:20210705T110000
DTEND;TZID=America/Denver:20210705T123000
DTSTAMP:20260422T163525
CREATED:20210610T224200Z
LAST-MODIFIED:20210610T224200Z
UID:19470-1625482800-1625488200@www.amssa.org
SUMMARY:BLACK FUTURES
DESCRIPTION:University of British Columbia is organizing an event: \nIn the final session of the series\, the speakers will draw from their rich and wide experiences and share their thoughts\, insights\, and advice on Black Futures. \nDate and Time:  July 05\, 2021. 11:00 a.m. to 12:30 p.m. PDT. \nPlease Register HERE.
URL:https://www.amssa.org/amssa-events/black-futures/
LOCATION:British Columbia
END:VEVENT
BEGIN:VEVENT
DTSTART;TZID=America/Denver:20210707T130000
DTEND;TZID=America/Denver:20210707T143000
DTSTAMP:20260422T163525
CREATED:20210706T182725Z
LAST-MODIFIED:20210706T182819Z
UID:19744-1625662800-1625668200@www.amssa.org
SUMMARY:Explore New Career Possibilities - Meet Bureau Veritas
DESCRIPTION:2021 July 7 Bureau Veritas Explore opportunities final version \nISSofBC is organizing session to learn about the company and their recruiting process. \nMultiple opportunities are available in laboratory operations & technicians \nDate: Wednesday – July 7\, 2021\nTime: 1:00 pm to 2:30 pm\nPlease Register HERE. \nFor more information or registration please contact: jose.duarte@issbc.org
URL:https://www.amssa.org/amssa-events/explore-new-career-possibilities-meet-bureau-veritas/
LOCATION:British Columbia
END:VEVENT
BEGIN:VEVENT
DTSTART;TZID=America/Denver:20210708T100000
DTEND;TZID=America/Denver:20210708T110000
DTSTAMP:20260422T163525
CREATED:20210629T205630Z
LAST-MODIFIED:20210629T205758Z
UID:19687-1625738400-1625742000@www.amssa.org
SUMMARY:Free Web Conference for IEP Engineers\, Technicians and Technologists.
DESCRIPTION:Canadian Immigrant and ACCES Employment proudly present a FREE one-stop web industry-specific virtual web conference series connecting newcomers with information and inspiration as you settle into your new home. \nDate: July 8\, 2021\nTime: 10:00 am to 11:00 am. \nPlease Register HERE.
URL:https://www.amssa.org/amssa-events/canadian-immigrant-web-conference-series/
LOCATION:British Columbia
END:VEVENT
BEGIN:VEVENT
DTSTART;TZID=America/Denver:20210713T130000
DTEND;TZID=America/Denver:20210713T140000
DTSTAMP:20260422T163525
CREATED:20210617T193232Z
LAST-MODIFIED:20210617T193232Z
UID:19522-1626181200-1626184800@www.amssa.org
SUMMARY:South Asian history in BC and Canada
DESCRIPTION:Tuesday July 13 2021 100 pm-200 pm For more information contact sasi@ufv.ca (1) \nSouth Asian Studies Institute is organizing a community discussion.\nDate and Time: Tuesday July 13\, 2021\, 1 :00 PM-2:00 PM \nFor more information please contact: SASI@UFV.CA \nThere is no registration. Please Join HERE.
URL:https://www.amssa.org/amssa-events/south-asian-history-in-bc-and-canada/
LOCATION:British Columbia
END:VEVENT
BEGIN:VEVENT
DTSTART;TZID=America/Denver:20210715T170000
DTEND;TZID=America/Denver:20210715T180000
DTSTAMP:20260422T163525
CREATED:20210624T195432Z
LAST-MODIFIED:20210715T184042Z
UID:19635-1626368400-1626372000@www.amssa.org
SUMMARY:Career Paths For Skilled Immigrants
DESCRIPTION:Douglas College Training Group is inviting internationally educated nurses to attend a virtual information session. \nDate: Thursday\, July 15th\nTime: 5-6PM\nLocation: Online (Zoom) \nPlease Register HERE. \nClick Here to download the poster.
URL:https://www.amssa.org/amssa-events/career-paths-for-skilled-immigrants/
LOCATION:British Columbia
END:VEVENT
BEGIN:VEVENT
DTSTART;TZID=America/Denver:20210719T100000
DTEND;TZID=America/Denver:20210719T130000
DTSTAMP:20260422T163525
CREATED:20210525T200910Z
LAST-MODIFIED:20210525T201724Z
UID:19217-1626688800-1626699600@www.amssa.org
SUMMARY:Resisting Vicarious Trauma & Burnout: A Train the Trainers workshop
DESCRIPTION:“The Zone of fabulousness” Connection & Solidarity amidst the heaviness of our work \nAbout this event:\nJuly 19 & 20 10am-1pm PDT (1am-4pm EDT)\nCost: $210 + eventbrite fees\nRegister HERE. \nContact organizer for reduced cost admissions for community members. Priority to BIPOC and ‘peers’ people-with-living-experience. \nWho should come:\nAnyone committed to team/community collective care & capacity building\nTeam Leads\, change agents\, folks shouldering up ‘first first-responders \nLearnings:\nResisting Vicarious Trauma & Burnout with Collective Care & Solidarity\nCentering connection\, resisting disconnection & enmeshment\nSolidarity Teams & Collective Care strategies\nResponding to Tragic Death\nDebriefing with connection\nResources\, videos\, articles\, exercises \nVIKKI REYNOLDS PhD is an activist/ therapist working to bridge the worlds of social justice activism with community work/ therapy. Her experience includes supervision and therapy with ‘peers’ responding to the opioid catastrophe\, refugees and survivors of torture – including Indigenous people who have survived state violence\, sexualized violence counsellors\, mental health and Harm Reduction counsellors\, housing and shelter workers\, activists and working alongside gender and sexually diverse communities. Resources for this workshop free at: www.vikkireynolds.ca \nTARA TAYLOR has worked in the non-profit sector for over 15 years and has been a fervent sustainability activist\, working and reflecting across multiple disciplines and sectors to develop community systems that promote social justice as well as a balance between community development and community well-being. Most of Tara’s work has been done in the DTES of Vancouver\, with a focus on harm reduction.
URL:https://www.amssa.org/amssa-events/resisting-vicarious-trauma-burnout-a-train-the-trainers-workshop/
LOCATION:British Columbia
END:VEVENT
BEGIN:VEVENT
DTSTART;TZID=America/Denver:20210720T100000
DTEND;TZID=America/Denver:20210720T130000
DTSTAMP:20260422T163525
CREATED:20210525T201010Z
LAST-MODIFIED:20210525T201830Z
UID:19219-1626775200-1626786000@www.amssa.org
SUMMARY:Resisting Vicarious Trauma & Burnout: A Train the Trainers workshop
DESCRIPTION:“The Zone of fabulousness” Connection & Solidarity amidst the heaviness of our work \nAbout this event:\nJuly 19 & 20 10am-1pm PDT (1am-4pm EDT)\nCost: $210 + eventbrite fees\nRegister HERE. \nContact organizer for reduced cost admissions for community members. Priority to BIPOC and ‘peers’ people-with-living-experience. \nWho should come:\nAnyone committed to team/community collective care & capacity building\nTeam Leads\, change agents\, folks shouldering up ‘first first-responders \nLearnings:\nResisting Vicarious Trauma & Burnout with Collective Care & Solidarity\nCentering connection\, resisting disconnection & enmeshment\nSolidarity Teams & Collective Care strategies\nResponding to Tragic Death\nDebriefing with connection\nResources\, videos\, articles\, exercises \nVIKKI REYNOLDS PhD is an activist/ therapist working to bridge the worlds of social justice activism with community work/ therapy. Her experience includes supervision and therapy with ‘peers’ responding to the opioid catastrophe\, refugees and survivors of torture – including Indigenous people who have survived state violence\, sexualized violence counsellors\, mental health and Harm Reduction counsellors\, housing and shelter workers\, activists and working alongside gender and sexually diverse communities. Resources for this workshop free at: www.vikkireynolds.ca \nTARA TAYLOR has worked in the non-profit sector for over 15 years and has been a fervent sustainability activist\, working and reflecting across multiple disciplines and sectors to develop community systems that promote social justice as well as a balance between community development and community well-being. Most of Tara’s work has been done in the DTES of Vancouver\, with a focus on harm reduction.
URL:https://www.amssa.org/amssa-events/resisting-vicarious-trauma-burnout-a-train-the-trainers-workshop-2/
LOCATION:British Columbia
END:VEVENT
BEGIN:VEVENT
DTSTART;TZID=America/Denver:20210721T140000
DTEND;TZID=America/Denver:20210721T160000
DTSTAMP:20260422T163525
CREATED:20210713T183247Z
LAST-MODIFIED:20210713T183247Z
UID:19813-1626876000-1626883200@www.amssa.org
SUMMARY:Community Gaming Grant
DESCRIPTION:BCACG is organizing a webinar to access the BC Community Gaming Grant 2021. \nDate: July 21\, 2021\nTime: 2-4pm\nPresented by: Kelina Kwan\, Executive Director\, BCACG\nPlease Register HERE.
URL:https://www.amssa.org/amssa-events/community-gaming-grant/
LOCATION:British Columbia
END:VEVENT
BEGIN:VEVENT
DTSTART;TZID=America/Denver:20210721T143000
DTEND;TZID=America/Denver:20210721T163000
DTSTAMP:20260422T163525
CREATED:20210624T205124Z
LAST-MODIFIED:20210624T205452Z
UID:19640-1626877800-1626885000@www.amssa.org
SUMMARY:Canadian Citizenship Eligibility\, Requirements &  Application Process (Farsi)
DESCRIPTION:ISSofBc is organizing is organizing a workshop. \nWhat do you need to know about Canadian Citizenship application. \nDate: Jul 21 (Wednesday)\nTime: 2:30 pm – 4:30 pm\nVenue: Zoom Webinar \nTo register and get the webinar link\, please contact Mojgan.\nT: 778-284-7026 Ext:1569\nEmail: mojgan.heydarpour@issbc.org
URL:https://www.amssa.org/amssa-events/canadian-citizenship-eligibility-requirements-application-process-farsi/
LOCATION:British Columbia
END:VEVENT
BEGIN:VEVENT
DTSTART;TZID=America/Denver:20210722T140000
DTEND;TZID=America/Denver:20210722T153000
DTSTAMP:20260422T163525
CREATED:20210712T232502Z
LAST-MODIFIED:20210712T232600Z
UID:19803-1626962400-1626967800@www.amssa.org
SUMMARY:AMSSA's Webinar: Exploring HyFlex Program Delivery
DESCRIPTION:AMSSA is organizing a webinar to explore HyFlex Program Delivery through the research and trial implementation of three LINC providers. \nThis webinar will support organizational leaders with knowledge of human resources\, training and equipment required to plan to offer HyFlex programming. Please note that AMSSA is not endorsing this delivery approach but instead creating space for select providers to share their learnings so far. \nDate: Thursday July 22\, 2021\nTime: 2:00pm- 3:30pm (Pacific Time)\nLocation: Zoom link will be emailed immediately after registration \nPlease Register HERE. \nPlease register by Tuesday July 20\, 2021 – 4:00PM PDT
URL:https://www.amssa.org/amssa-events/amssas-webinar-exploring-hyflex-program-delivery/
LOCATION:British Columbia
END:VEVENT
BEGIN:VEVENT
DTSTART;TZID=America/Denver:20210728T103000
DTEND;TZID=America/Denver:20210728T153000
DTSTAMP:20260422T163525
CREATED:20210727T174507Z
LAST-MODIFIED:20210727T174507Z
UID:19972-1627468200-1627486200@www.amssa.org
SUMMARY:Employment Workshop: How to Find a Job in Canada
DESCRIPTION:MOSAIC will be hosting an in-person event to empower refugee claimants with practical skills and insights for job-hunting. \nDate and Time: July 28\, 2021 10:30 am – 3:30 pm PST \nAddress: MOSAIC- 5575 Boundary Road\, Vancouver \nTo Register Please Email: sarif@mosaicbc.org \nFor More Information Please Click HERE.
URL:https://www.amssa.org/amssa-events/employment-workshop-how-to-find-a-job-in-canada/
LOCATION:British Columbia
END:VEVENT
BEGIN:VEVENT
DTSTART;TZID=America/Denver:20210728T140000
DTEND;TZID=America/Denver:20210728T150000
DTSTAMP:20260422T163525
CREATED:20210713T184009Z
LAST-MODIFIED:20210713T184009Z
UID:19817-1627480800-1627484400@www.amssa.org
SUMMARY:Completing the Gaming Account Summary Report | How-To\, Q&A
DESCRIPTION:BCACG is organizing a webinar to complete the Gaming Account Summary Report \nDate: July 28\, 2021\nTime: 2-3pm\nPresented by: Kelina Kwan\, Executive Director\, BCACG \nPlease Register HERE.
URL:https://www.amssa.org/amssa-events/completing-the-gaming-account-summary-report-how-to-qa/
LOCATION:British Columbia
END:VEVENT
BEGIN:VEVENT
DTSTART;TZID=America/Denver:20210728T140000
DTEND;TZID=America/Denver:20210728T160000
DTSTAMP:20260422T163525
CREATED:20210624T210243Z
LAST-MODIFIED:20210624T210248Z
UID:19646-1627480800-1627488000@www.amssa.org
SUMMARY:Transportation and Safety Measures (Farsi)
DESCRIPTION:ISSofBC is organizing an Information & Orientation Workshop on Transportation & Safety Measures in BC. \nDate: Jul 28 (Wednesday)\nTime: 2:00 pm – 4:00pm\nVenue: Zoom Webinar \nTo register contact Abdul Samim 236-688-8275\nEmail: abdul.samim@issbc.org
URL:https://www.amssa.org/amssa-events/transportation-and-safety-measures-farsi/
LOCATION:British Columbia
END:VEVENT
BEGIN:VEVENT
DTSTART;TZID=America/Denver:20210729T190000
DTEND;TZID=America/Denver:20210729T200000
DTSTAMP:20260422T163525
CREATED:20210727T185706Z
LAST-MODIFIED:20210727T185706Z
UID:19977-1627585200-1627588800@www.amssa.org
SUMMARY:Basics of Job Search in British Columbia ( Service in Mandarin)
DESCRIPTION:Burnaby Neighbourhood House is hosting an event. Your new working life in BC begins here. \nDate and Time: July 29\,2021. 7:00 pm.
URL:https://www.amssa.org/amssa-events/basics-of-job-search-in-british-columbia-service-in-mandarin/
LOCATION:British Columbia
END:VEVENT
BEGIN:VEVENT
DTSTART;TZID=America/Denver:20210806T130000
DTEND;TZID=America/Denver:20210806T153000
DTSTAMP:20260422T163525
CREATED:20210803T212413Z
LAST-MODIFIED:20210803T212413Z
UID:20092-1628254800-1628263800@www.amssa.org
SUMMARY:Positive Parenting
DESCRIPTION:ISSofBc is organizing an event to help immigrants build a future in Canada. \nDate and Time: Wed – Aug 6\, 2019\, 1:00pm to 3:30 pm. \nFor registration please contact:\nRiyam Ziad\n604-356-7735\nRiyam.ziad@issbc.org \nPlease click here to download the poster.
URL:https://www.amssa.org/amssa-events/positive-parenting/
LOCATION:British Columbia
END:VEVENT
BEGIN:VEVENT
DTSTART;TZID=America/Denver:20210811T110000
DTEND;TZID=America/Denver:20210811T120000
DTSTAMP:20260422T163525
CREATED:20210729T215843Z
LAST-MODIFIED:20210729T215843Z
UID:20053-1628679600-1628683200@www.amssa.org
SUMMARY:Employment Workshop Series ( Resume Building and Writhing a Cover Letter)
DESCRIPTION:Burnaby Neighbourhood House is hosting a workshop. \nLooking for work? Join us on a free 3-part virtual workshop series. \nDate and Time: August 11\, 2021. 11:00 am to 12:00 pm. \nFor registration and more information\, please contact: \nAvelina\, our Settlement Case Manager @ AvelinaD@burnabynh.ca (English and Tagalog) \nSiham\, our Settlement Case Manager @SihamAA@burnabynh.ca (English and Arabic)
URL:https://www.amssa.org/amssa-events/employment-workshop-series-resume-building-and-writhing-a-cover-letter/
LOCATION:British Columbia
END:VEVENT
BEGIN:VEVENT
DTSTART;TZID=America/Denver:20210812T100000
DTEND;TZID=America/Denver:20210812T113000
DTSTAMP:20260422T163525
CREATED:20210810T222329Z
LAST-MODIFIED:20210810T222523Z
UID:20170-1628762400-1628767800@www.amssa.org
SUMMARY:Canadian Immigrant Web Conference Series
DESCRIPTION:Canadian Immigrant and ACCES Employment proudly present a FREE one-stop web industry-specific virtual web conference series connecting newcomers with information and inspiration as you settle into your new home. \nTopics include:\n• Unlock your career potential – become a CPA: Thinking about a career path that’s right for you? Consider pursuing the versatile and world-renowned CPA designation. Take the first step toward a successful career today\, and learn about: exciting career options for CPAs\, the CPA certification program and practical experience requirements\, your timeline of certification and more. \n• Skills for IEP Accountants and Finance Professionals: Join us as we take you through transferable skills\, networking advice and future skills needed to help you succeed in Canada. \nDate and Time: August 12\, 2021. 10:00 am PST. \nPlease Register Here.
URL:https://www.amssa.org/amssa-events/canadian-immigrant-web-conference-series-2/
LOCATION:British Columbia
END:VEVENT
BEGIN:VEVENT
DTSTART;TZID=America/Denver:20210818T110000
DTEND;TZID=America/Denver:20210818T120000
DTSTAMP:20260422T163525
CREATED:20210729T220353Z
LAST-MODIFIED:20210729T220353Z
UID:20059-1629284400-1629288000@www.amssa.org
SUMMARY:Employment Workshop Series ( Job Search Strategies & Networking)
DESCRIPTION:Burnaby Neighbourhood House is hosting a workshop. \nLooking for work? Join us on a free 3-part virtual workshop series. \nDate and Time: August 18\, 2021. 11:00 am to 12:00 pm. \nFor registration and more information\, please contact: \nAvelina\, our Settlement Case Manager @ AvelinaD@burnabynh.ca (English and Tagalog) \nSiham\, our Settlement Case Manager @SihamAA@burnabynh.ca (English and Arabic)
URL:https://www.amssa.org/amssa-events/employment-workshop-series-job-search-strategies-networking/
LOCATION:British Columbia
END:VEVENT
BEGIN:VEVENT
DTSTART;TZID=America/Denver:20210819T130000
DTEND;TZID=America/Denver:20210819T143000
DTSTAMP:20260422T163525
CREATED:20210817T164710Z
LAST-MODIFIED:20210817T164759Z
UID:20233-1629378000-1629383400@www.amssa.org
SUMMARY:Virtual Meet & Greet with TECH Employers
DESCRIPTION:This event is in hosted in partnership with S.U.C.C.E.S.S. BCSIS Surrey/Langley/North Delta and WorkBC Surrey/Cloverdale/Delta. \nMeet with employers in tech virtually and hear all about their current employment opportunities. Also takeaway career tips for the Tech industry and have the chance to participate in a Q&A session. \nDate and Time: THURS\, AUGUST 19 | 1PM – 2:30PM \nPlease Click here to download the poster. \nPlease click here to register.
URL:https://www.amssa.org/amssa-events/virtual-meet-greet-with-tech-employers/
LOCATION:British Columbia
END:VEVENT
BEGIN:VEVENT
DTSTART;TZID=America/Denver:20210825T110000
DTEND;TZID=America/Denver:20210825T120000
DTSTAMP:20260422T163525
CREATED:20210729T220608Z
LAST-MODIFIED:20210729T220700Z
UID:20062-1629889200-1629892800@www.amssa.org
SUMMARY:Employment Workshop Series ( Interview Skills)
DESCRIPTION:Burnaby Neighbourhood House is hosting a workshop. \nLooking for work? Join us on a free 3-part virtual workshop series. \nDate and Time: August 25\, 2021. 11:00 am to 12:00 pm. \nFor registration and more information\, please contact: \nAvelina\, our Settlement Case Manager @ AvelinaD@burnabynh.ca (English and Tagalog) \nSiham\, our Settlement Case Manager @SihamAA@burnabynh.ca (English and Arabic)
URL:https://www.amssa.org/amssa-events/employment-workshop-series-interview-skills/
LOCATION:British Columbia
END:VEVENT
BEGIN:VEVENT
DTSTART;TZID=America/Denver:20210825T140000
DTEND;TZID=America/Denver:20210825T160000
DTSTAMP:20260422T163525
CREATED:20210805T215551Z
LAST-MODIFIED:20210805T215551Z
UID:20122-1629900000-1629907200@www.amssa.org
SUMMARY:Family Law in Farsi
DESCRIPTION:ISSofBC is organizing an event. \nFamily Law in BC\nPresenter: Ferhad Sean Amiri \nDate: August 25\, 2021\nTime: 2:00 – 4:00 PM \nFor registration\, please call Abdul Samim at 236-688-8275 or email: abdul.samim@issbc.org \nPlease Click Here to Download the Poster.
URL:https://www.amssa.org/amssa-events/family-law-in-farsi/
LOCATION:British Columbia
END:VEVENT
BEGIN:VEVENT
DTSTART;TZID=America/Denver:20210827T140000
DTEND;TZID=America/Denver:20210827T160000
DTSTAMP:20260422T163525
CREATED:20210805T211353Z
LAST-MODIFIED:20210805T215622Z
UID:20118-1630072800-1630080000@www.amssa.org
SUMMARY:Inter-Generational Conflict
DESCRIPTION:ISSofBC is organizing an event. \nDate and Time: Aug 27\, 2021 . 2:00 pm to 4:00 pm \nEligibility: ISSofBC eligible clients and PR/Protected persons.  \nPre-registration required to receive link. \nFor registration please contact:\nAlaa Idris\nCell:778 229 4371\nTel:778-383-1438\nAlaa.idris@issbc.org \nPlease Click Here to Download the Poster.
URL:https://www.amssa.org/amssa-events/inter-generational-conflict/
LOCATION:British Columbia
END:VEVENT
BEGIN:VEVENT
DTSTART;TZID=America/Denver:20210914T100000
DTEND;TZID=America/Denver:20210914T120000
DTSTAMP:20260422T163525
CREATED:20210902T194126Z
LAST-MODIFIED:20210902T194126Z
UID:20436-1631613600-1631620800@www.amssa.org
SUMMARY:Employment Skills Web Series: Get Your LinkedIn Profile Noticed
DESCRIPTION:Options Community Services is organizing and event. \nWe will be facilitating a series of interactive workshops designed to help newcomers upgrade their job search and career growth process. Newcomer participants will learn how to grow their networks\, learn about Canadian workplace culture and the advantages of volunteering. Participants can benefit from learning effective strategies to help them in their job search. \nDate: September 14\nTime: 10:00am – 12:00pm\nLocation: Zoom \nPlease register here. \nClick here to download the poster.
URL:https://www.amssa.org/amssa-events/employment-skills-web-series-get-your-linkedin-profile-noticed/
LOCATION:British Columbia
END:VEVENT
BEGIN:VEVENT
DTSTART;TZID=America/Denver:20210914T140000
DTEND;TZID=America/Denver:20210914T153000
DTSTAMP:20260422T163525
CREATED:20210902T193040Z
LAST-MODIFIED:20210902T193040Z
UID:20430-1631628000-1631633400@www.amssa.org
SUMMARY:The ABC’s of the ESA in Cantonese
DESCRIPTION:Ministry of Labour is organizing an event. \nThe ABC’s of the ESA in Cantonese and Punjabi . \nDate and Time: Tuesday September 14\, 2021. 2:00 pm to 3:30pm. \nThe sessions are being run virtually and attendees need to register at least 24 hours in advance. \nPlease register here.
URL:https://www.amssa.org/amssa-events/the-abcs-of-the-esa-in-cantonese/
LOCATION:British Columbia
END:VEVENT
BEGIN:VEVENT
DTSTART;TZID=America/Denver:20210915T100000
DTEND;TZID=America/Denver:20210915T120000
DTSTAMP:20260422T163525
CREATED:20210902T194432Z
LAST-MODIFIED:20210902T194432Z
UID:20439-1631700000-1631707200@www.amssa.org
SUMMARY:Employment Skills Web Series: Successfully Network Online
DESCRIPTION:Options Community Services is organizing and event. \nWe will be facilitating a series of interactive workshops designed to help newcomers upgrade their job search and career growth process. Newcomer participants will learn how to grow their networks\, learn about Canadian workplace culture and the advantages of volunteering. Participants can benefit from learning effective strategies to help them in their job search. \nDate: September 15\nTime: 10:00am – 12:00pm\nLocation: Zoom \nPlease register here. \nPlease click here to download the poster.
URL:https://www.amssa.org/amssa-events/employment-skills-web-series-successfully-network-online/
LOCATION:British Columbia
END:VEVENT
BEGIN:VEVENT
DTSTART;TZID=America/Denver:20210915T100000
DTEND;TZID=America/Denver:20210915T120000
DTSTAMP:20260422T163525
CREATED:20210911T020231Z
LAST-MODIFIED:20210911T020231Z
UID:20506-1631700000-1631707200@www.amssa.org
SUMMARY:AMSSA Webinar: Re-Entry to Work - Key Strategies for Adjusting to Change through COVID and Beyond
DESCRIPTION:As we continue along B.C.’s COVID Restart Plan to reopen B.C.’s economies\, the Settlement and Integration Sector service provider organizations are left with the task of safely reopening their own agencies. \nManaging the changes and transitions to reopening can be challenging\, this 2-hour webinar will take time to consider the impact of the COVID-19 pandemic on you\, your work and more broadly\, the Settlement and Integration Sector. Discover key strategies for re-entry to work\, dealing with change\, and orienting to the “new normal” in ways that can be responsive to health and safety\, and support the resilience and well-being of front-line staff\, managers\, leaders and teams. \nIn this webinar\, you will: \n– Reflect on the impact of the pandemic on employees and organizations\n– Consider the importance of focusing on a “new normal”\n– Learn the difference between change and transition\n– Explore ways to manage the stress of uncertainty\n– Discover key strategies for resilience to help recover and bounce back after disruptive Change\n– Vision your hopes for the future beyond the pandemic \nAMSSA Webinar: Re-Entry to Work: Key Strategies for Adjusting to Change \nDate: Wednesday September 15\, 2021\nTime: 10:00 am to 12:00 pm (Pacific Time)\nLocation: Zoom | Event details will be sent after registration \nCLICK HERE TO REGISTER\nRegistration deadline:\nTuesday September 14\, 2021\n11:59 PM (PST)
URL:https://www.amssa.org/amssa-events/amssa-webinar-re-entry-to-work-key-strategies-for-adjusting-to-change-through-covid-and-beyond/
LOCATION:British Columbia
END:VEVENT
BEGIN:VEVENT
DTSTART;TZID=America/Denver:20210915T140000
DTEND;TZID=America/Denver:20210915T150000
DTSTAMP:20260422T163525
CREATED:20210902T185706Z
LAST-MODIFIED:20210902T185742Z
UID:20427-1631714400-1631718000@www.amssa.org
SUMMARY:Hate Speech in B.C.
DESCRIPTION:BC’s Office of the Human Rights Commissioner has released a hate speech guide to help people in B.C. better understand hate speech and their rights and responsibilities under the law. \nDate: Wednesday\, September 15\, 2021\nTime: 2:00 – 3:00 p.m. PDT\nlocation: Virtual\, via Zoom Webinar \nPlease register here. \nClick here for more information.
URL:https://www.amssa.org/amssa-events/hate-speech-in-b-c/
LOCATION:British Columbia
END:VEVENT
BEGIN:VEVENT
DTSTART;TZID=America/Denver:20210916T140000
DTEND;TZID=America/Denver:20210916T153000
DTSTAMP:20260422T163525
CREATED:20210902T193244Z
LAST-MODIFIED:20210902T193257Z
UID:20434-1631800800-1631806200@www.amssa.org
SUMMARY:Recruitment in BC
DESCRIPTION:Ministry of Labour is organizing an event. \nRecruitment in BC in Cantonese  and Punjabi . \nDate and Time: Thursday September 16\, 2021. 2:00 pm to 3:30pm. \nThe sessions are being run virtually and attendees need to register at least 24 hours in advance. \nPlease register here.
URL:https://www.amssa.org/amssa-events/recruitment-in-bc/
LOCATION:British Columbia
END:VEVENT
BEGIN:VEVENT
DTSTART;TZID=America/Denver:20210916T170000
DTEND;TZID=America/Denver:20210916T180000
DTSTAMP:20260422T163525
CREATED:20210902T184803Z
LAST-MODIFIED:20210911T021203Z
UID:20422-1631811600-1631815200@www.amssa.org
SUMMARY:Career Paths For Skilled Immigrants - Information Session
DESCRIPTION:Douglas College is organizing an event. \nDate: Thursday\, September 16\, 2021\nTime: 5-6PM\nLocation: Online (Zoom) \nPlease register here. \nClick here to download the poster.
URL:https://www.amssa.org/amssa-events/career-paths-for-skilled-immigrants-3/
LOCATION:British Columbia
END:VEVENT
END:VCALENDAR