BEGIN:VCALENDAR
VERSION:2.0
PRODID:-//AMSSA - ECPv6.15.18//NONSGML v1.0//EN
CALSCALE:GREGORIAN
METHOD:PUBLISH
X-WR-CALNAME:AMSSA
X-ORIGINAL-URL:https://www.amssa.org
X-WR-CALDESC:Events for AMSSA
REFRESH-INTERVAL;VALUE=DURATION:PT1H
X-Robots-Tag:noindex
X-PUBLISHED-TTL:PT1H
BEGIN:VTIMEZONE
TZID:America/Denver
BEGIN:DAYLIGHT
TZOFFSETFROM:-0700
TZOFFSETTO:-0600
TZNAME:MDT
DTSTART:20190310T090000
END:DAYLIGHT
BEGIN:STANDARD
TZOFFSETFROM:-0600
TZOFFSETTO:-0700
TZNAME:MST
DTSTART:20191103T080000
END:STANDARD
BEGIN:DAYLIGHT
TZOFFSETFROM:-0700
TZOFFSETTO:-0600
TZNAME:MDT
DTSTART:20200308T090000
END:DAYLIGHT
BEGIN:STANDARD
TZOFFSETFROM:-0600
TZOFFSETTO:-0700
TZNAME:MST
DTSTART:20201101T080000
END:STANDARD
BEGIN:DAYLIGHT
TZOFFSETFROM:-0700
TZOFFSETTO:-0600
TZNAME:MDT
DTSTART:20210314T090000
END:DAYLIGHT
BEGIN:STANDARD
TZOFFSETFROM:-0600
TZOFFSETTO:-0700
TZNAME:MST
DTSTART:20211107T080000
END:STANDARD
END:VTIMEZONE
BEGIN:VEVENT
DTSTART;TZID=America/Denver:20200917T110000
DTEND;TZID=America/Denver:20200917T120000
DTSTAMP:20260421T190536
CREATED:20200925T224248Z
LAST-MODIFIED:20200925T224248Z
UID:16871-1600340400-1600344000@www.amssa.org
SUMMARY:Arrival Advisor Multilingual Online Demo Series - Mandarin
DESCRIPTION:AMSSA is partnering with PeaceGeeks who is delivering the Arrival Advisor Multilingual Online Demo Series which will be offered in multiple languages and tailored to specific regions in BC. The online demos are available in English\, Arabic\, French\, Korean\, Mandarin\, Punjabi\, and Tagalog\, with examples tailored to regional specificity.\nWhen: Sep 17 (11:00 AM – 12:00 PM)\nPoster\nRegister Here.
URL:https://www.amssa.org/amssa-events/arrival-advisor-multilingual-online-demo-series-mandarin/
END:VEVENT
BEGIN:VEVENT
DTSTART;TZID=America/Denver:20200917T140000
DTEND;TZID=America/Denver:20200917T150000
DTSTAMP:20260421T190536
CREATED:20200925T224249Z
LAST-MODIFIED:20200925T224249Z
UID:16872-1600351200-1600354800@www.amssa.org
SUMMARY:Arrival Advisor Multilingual Online Demo Series - Korean
DESCRIPTION:AMSSA is partnering with PeaceGeeks who is delivering the Arrival Advisor Multilingual Online Demo Series which will be offered in multiple languages and tailored to specific regions in BC. The online demos are available in English\, Arabic\, French\, Korean\, Mandarin\, Punjabi\, and Tagalog\, with examples tailored to regional specificity.\nWhen: Sep 17 (2:00 PM – 3:00 PM)\nPoster\nRegister Here.
URL:https://www.amssa.org/amssa-events/arrival-advisor-multilingual-online-demo-series-korean/
END:VEVENT
END:VCALENDAR