BEGIN:VCALENDAR
VERSION:2.0
PRODID:-//AMSSA - ECPv6.15.18//NONSGML v1.0//EN
CALSCALE:GREGORIAN
METHOD:PUBLISH
X-WR-CALNAME:AMSSA
X-ORIGINAL-URL:https://www.amssa.org
X-WR-CALDESC:Events for AMSSA
REFRESH-INTERVAL;VALUE=DURATION:PT1H
X-Robots-Tag:noindex
X-PUBLISHED-TTL:PT1H
BEGIN:VTIMEZONE
TZID:America/Denver
BEGIN:DAYLIGHT
TZOFFSETFROM:-0700
TZOFFSETTO:-0600
TZNAME:MDT
DTSTART:20190310T090000
END:DAYLIGHT
BEGIN:STANDARD
TZOFFSETFROM:-0600
TZOFFSETTO:-0700
TZNAME:MST
DTSTART:20191103T080000
END:STANDARD
BEGIN:DAYLIGHT
TZOFFSETFROM:-0700
TZOFFSETTO:-0600
TZNAME:MDT
DTSTART:20200308T090000
END:DAYLIGHT
BEGIN:STANDARD
TZOFFSETFROM:-0600
TZOFFSETTO:-0700
TZNAME:MST
DTSTART:20201101T080000
END:STANDARD
BEGIN:DAYLIGHT
TZOFFSETFROM:-0700
TZOFFSETTO:-0600
TZNAME:MDT
DTSTART:20210314T090000
END:DAYLIGHT
BEGIN:STANDARD
TZOFFSETFROM:-0600
TZOFFSETTO:-0700
TZNAME:MST
DTSTART:20211107T080000
END:STANDARD
END:VTIMEZONE
BEGIN:VEVENT
DTSTART;TZID=America/Denver:20200625T130000
DTEND;TZID=America/Denver:20200625T150000
DTSTAMP:20260421T133107
CREATED:20200925T224239Z
LAST-MODIFIED:20200925T224239Z
UID:16855-1593090000-1593097200@www.amssa.org
SUMMARY:Vancouver North East WorkBC Virtual Job Fair
DESCRIPTION:WorkBC-Hiring Event-2020-06-25\nVancouver North East WorkBC is pleased to host a virtual job fair with leading companies: Raymond James and RBC. Get an exclusive chance to learn about the companies and  participate in group introductions and Q&A \nWHEN: Thursday\, June 25\, 2020 at 1pm – 3pm\nWHERE: Virtual – Zoom Link/Phone number will be provided to those registered \nRegister for the event via the zoom link below. \nhttps://mosaicbc.zoom.us/meeting/register/tJcrduqorzIiGNVFkj6C6lBeqN6jTDa-AqUB
URL:https://www.amssa.org/amssa-events/vancouver-north-east-workbc-virtual-job-fair/
END:VEVENT
END:VCALENDAR