BEGIN:VCALENDAR
VERSION:2.0
PRODID:-//AMSSA - ECPv6.15.18//NONSGML v1.0//EN
CALSCALE:GREGORIAN
METHOD:PUBLISH
X-WR-CALNAME:AMSSA
X-ORIGINAL-URL:https://www.amssa.org
X-WR-CALDESC:Events for AMSSA
REFRESH-INTERVAL;VALUE=DURATION:PT1H
X-Robots-Tag:noindex
X-PUBLISHED-TTL:PT1H
BEGIN:VTIMEZONE
TZID:America/Denver
BEGIN:DAYLIGHT
TZOFFSETFROM:-0700
TZOFFSETTO:-0600
TZNAME:MDT
DTSTART:20190310T090000
END:DAYLIGHT
BEGIN:STANDARD
TZOFFSETFROM:-0600
TZOFFSETTO:-0700
TZNAME:MST
DTSTART:20191103T080000
END:STANDARD
BEGIN:DAYLIGHT
TZOFFSETFROM:-0700
TZOFFSETTO:-0600
TZNAME:MDT
DTSTART:20200308T090000
END:DAYLIGHT
BEGIN:STANDARD
TZOFFSETFROM:-0600
TZOFFSETTO:-0700
TZNAME:MST
DTSTART:20201101T080000
END:STANDARD
BEGIN:DAYLIGHT
TZOFFSETFROM:-0700
TZOFFSETTO:-0600
TZNAME:MDT
DTSTART:20210314T090000
END:DAYLIGHT
BEGIN:STANDARD
TZOFFSETFROM:-0600
TZOFFSETTO:-0700
TZNAME:MST
DTSTART:20211107T080000
END:STANDARD
END:VTIMEZONE
BEGIN:VEVENT
DTSTART;TZID=America/Denver:20200619T100000
DTEND;TZID=America/Denver:20200619T113000
DTSTAMP:20260421T133027
CREATED:20200925T224239Z
LAST-MODIFIED:20200925T224239Z
UID:16856-1592560800-1592566200@www.amssa.org
SUMMARY:Our Story: a World Refugee Day webinar
DESCRIPTION:Our Story_flyer\nJumpstart Refugee Talent is putting together the first nation-wide refuge-led webinar of its kind in Canada\, with refugees from across the country sharing their stories about their economical inclusion in Canadian society. \nSpecial guests will join the conversation with refugees to explore how Canadians can take action to advance the economic inclusion of refugees. \nEvent Details \nDate: Friday\, June 19\, 2020\nTime: 1:00 pm – 2:30 pm EDT\n11:00 am – 12:30 pm MDT\n10:00 am – 11:30 am PDT \nLocation: Webinar hosted on Zoom \nPlease register Here.
URL:https://www.amssa.org/amssa-events/our-story-a-world-refugee-day-webinar/
END:VEVENT
END:VCALENDAR