BEGIN:VCALENDAR
VERSION:2.0
PRODID:-//AMSSA - ECPv6.15.18//NONSGML v1.0//EN
CALSCALE:GREGORIAN
METHOD:PUBLISH
X-WR-CALNAME:AMSSA
X-ORIGINAL-URL:https://www.amssa.org
X-WR-CALDESC:Events for AMSSA
REFRESH-INTERVAL;VALUE=DURATION:PT1H
X-Robots-Tag:noindex
X-PUBLISHED-TTL:PT1H
BEGIN:VTIMEZONE
TZID:America/Denver
BEGIN:DAYLIGHT
TZOFFSETFROM:-0700
TZOFFSETTO:-0600
TZNAME:MDT
DTSTART:20190310T090000
END:DAYLIGHT
BEGIN:STANDARD
TZOFFSETFROM:-0600
TZOFFSETTO:-0700
TZNAME:MST
DTSTART:20191103T080000
END:STANDARD
BEGIN:DAYLIGHT
TZOFFSETFROM:-0700
TZOFFSETTO:-0600
TZNAME:MDT
DTSTART:20200308T090000
END:DAYLIGHT
BEGIN:STANDARD
TZOFFSETFROM:-0600
TZOFFSETTO:-0700
TZNAME:MST
DTSTART:20201101T080000
END:STANDARD
BEGIN:DAYLIGHT
TZOFFSETFROM:-0700
TZOFFSETTO:-0600
TZNAME:MDT
DTSTART:20210314T090000
END:DAYLIGHT
BEGIN:STANDARD
TZOFFSETFROM:-0600
TZOFFSETTO:-0700
TZNAME:MST
DTSTART:20211107T080000
END:STANDARD
END:VTIMEZONE
BEGIN:VEVENT
DTSTART;TZID=America/Denver:20200615T093000
DTEND;TZID=America/Denver:20200615T110000
DTSTAMP:20260421T133106
CREATED:20200925T224235Z
LAST-MODIFIED:20200925T224239Z
UID:16852-1592213400-1592218800@www.amssa.org
SUMMARY:Webinar: Temporary Income Supports in the Time of COVID-19  for Migrant Workers
DESCRIPTION:In response to COVID-19\, the Federal Government of Canada introduced various temporary income supports\, including the Canada Emergency Response Benefit (CERB)\, that are available to workers across Canada who are impacted by the pandemic. To aid organizations and individuals who support migrant workers\, the Migrant Worker Hub organized this event to seek information on the eligibility for these benefits for those in Canada on a temporary status such as migrant workers.\nWebinar speakers\, Aileen Mittoni and Brenda Giesbrecht\, Citizen Services Specialists\, from Service Canada will present the income supports available for migrant workers\, how to access these support\, and provide further clarification on any questions participants may have. \nThis webinar is for organizations and individuals who support migrant workers and aims to provide increased capacity and further awareness of the COVID-19 income supports available for migrant workers. \nWebinar: Temporary Income Supports in the Time of COVID-19\nfor Migrant Workers\nDate: Monday\, June 15\, 2020\nTime: 9:30 am to 11:00 am (PDT)\nLocation: Online\nCLICK HERE TO REGISTER
URL:https://www.amssa.org/amssa-events/webinar-temporary-income-supports-in-the-time-of-covid-19-for-migrant-workers/
END:VEVENT
END:VCALENDAR