BEGIN:VCALENDAR
VERSION:2.0
PRODID:-//AMSSA - ECPv6.15.18//NONSGML v1.0//EN
CALSCALE:GREGORIAN
METHOD:PUBLISH
X-WR-CALNAME:AMSSA
X-ORIGINAL-URL:https://www.amssa.org
X-WR-CALDESC:Events for AMSSA
REFRESH-INTERVAL;VALUE=DURATION:PT1H
X-Robots-Tag:noindex
X-PUBLISHED-TTL:PT1H
BEGIN:VTIMEZONE
TZID:America/Denver
BEGIN:DAYLIGHT
TZOFFSETFROM:-0700
TZOFFSETTO:-0600
TZNAME:MDT
DTSTART:20190310T090000
END:DAYLIGHT
BEGIN:STANDARD
TZOFFSETFROM:-0600
TZOFFSETTO:-0700
TZNAME:MST
DTSTART:20191103T080000
END:STANDARD
BEGIN:DAYLIGHT
TZOFFSETFROM:-0700
TZOFFSETTO:-0600
TZNAME:MDT
DTSTART:20200308T090000
END:DAYLIGHT
BEGIN:STANDARD
TZOFFSETFROM:-0600
TZOFFSETTO:-0700
TZNAME:MST
DTSTART:20201101T080000
END:STANDARD
BEGIN:DAYLIGHT
TZOFFSETFROM:-0700
TZOFFSETTO:-0600
TZNAME:MDT
DTSTART:20210314T090000
END:DAYLIGHT
BEGIN:STANDARD
TZOFFSETFROM:-0600
TZOFFSETTO:-0700
TZNAME:MST
DTSTART:20211107T080000
END:STANDARD
END:VTIMEZONE
BEGIN:VEVENT
DTSTART;TZID=America/Denver:20200120T093000
DTEND;TZID=America/Denver:20200120T123000
DTSTAMP:20260421T202848
CREATED:20200116T235435Z
LAST-MODIFIED:20200116T235703Z
UID:14754-1579512600-1579523400@www.amssa.org
SUMMARY:How to Prepare for Job Fair and Speed Interview
DESCRIPTION:2020-1-20 Prepare for Job Fair Workshop – EL \nJoin this workshop to gain valuable insights to help you get ready to attend and maximize your opportunities at a Job Fair. \n\nLearn how to make a great first impression\nHow to prepare for speed interview\nDevelop a pivotal follow up strategy\n\n \nTo register\, please contact: Evelyn Levy \n604-684-3599 ext. 1275\, or email evelyn.levy@issbc.org
URL:https://www.amssa.org/amssa-events/how-to-prepare-for-job-fair-and-speed-interview/
LOCATION:Coquitlam Public Library- City Centre\, 1169 Pinetree Way\,\, Coquitlam\, BC\, V3B 0Y1\, Canada
END:VEVENT
END:VCALENDAR