BEGIN:VCALENDAR
VERSION:2.0
PRODID:-//AMSSA - ECPv6.15.18//NONSGML v1.0//EN
CALSCALE:GREGORIAN
METHOD:PUBLISH
X-WR-CALNAME:AMSSA
X-ORIGINAL-URL:https://www.amssa.org
X-WR-CALDESC:Events for AMSSA
REFRESH-INTERVAL;VALUE=DURATION:PT1H
X-Robots-Tag:noindex
X-PUBLISHED-TTL:PT1H
BEGIN:VTIMEZONE
TZID:America/Denver
BEGIN:DAYLIGHT
TZOFFSETFROM:-0700
TZOFFSETTO:-0600
TZNAME:MDT
DTSTART:20170312T090000
END:DAYLIGHT
BEGIN:STANDARD
TZOFFSETFROM:-0600
TZOFFSETTO:-0700
TZNAME:MST
DTSTART:20171105T080000
END:STANDARD
BEGIN:DAYLIGHT
TZOFFSETFROM:-0700
TZOFFSETTO:-0600
TZNAME:MDT
DTSTART:20180311T090000
END:DAYLIGHT
BEGIN:STANDARD
TZOFFSETFROM:-0600
TZOFFSETTO:-0700
TZNAME:MST
DTSTART:20181104T080000
END:STANDARD
BEGIN:DAYLIGHT
TZOFFSETFROM:-0700
TZOFFSETTO:-0600
TZNAME:MDT
DTSTART:20190310T090000
END:DAYLIGHT
BEGIN:STANDARD
TZOFFSETFROM:-0600
TZOFFSETTO:-0700
TZNAME:MST
DTSTART:20191103T080000
END:STANDARD
END:VTIMEZONE
BEGIN:VEVENT
DTSTART;TZID=America/Denver:20180928T153000
DTEND;TZID=America/Denver:20180928T190000
DTSTAMP:20260419T112754
CREATED:20180910T010117Z
LAST-MODIFIED:20180910T010140Z
UID:11856-1538148600-1538161200@www.amssa.org
SUMMARY:AMSSA's 41st Annual General Meeting
DESCRIPTION:Join us at our 41st Annual General Meeting! \nEvent Details: \nWhen: Friday\, September 28\, 2018  from 3:30 – 7:00 PM; Registration begins at 3:30 PM\nWhere: Creekside Community Recreation Centre\, 1 Athletes Way\, Vancouver\, BC \nHighlights include: \n\nPresentation of the 2018 AMSSA Diversity Awards\nNetworking dinner catered by Tayybeh: A celebration of Syrian Cuisine\nEntertainment\n\nRegistration/RSVP required. Please register by September 12\, 2018. RSVP by clicking here. \nHave questions? contact us at communications@amssa.org.
URL:https://www.amssa.org/amssa-events/amssas-41st-annual-general-meeting/
LOCATION:Creekside Community Recreation Centre\, 1 Athletes Way\, Vancouver\, BC\, Canada
END:VEVENT
END:VCALENDAR