BEGIN:VCALENDAR
VERSION:2.0
PRODID:-//AMSSA - ECPv6.15.18//NONSGML v1.0//EN
CALSCALE:GREGORIAN
METHOD:PUBLISH
X-WR-CALNAME:AMSSA
X-ORIGINAL-URL:https://www.amssa.org
X-WR-CALDESC:Events for AMSSA
REFRESH-INTERVAL;VALUE=DURATION:PT1H
X-Robots-Tag:noindex
X-PUBLISHED-TTL:PT1H
BEGIN:VTIMEZONE
TZID:America/Denver
BEGIN:DAYLIGHT
TZOFFSETFROM:-0700
TZOFFSETTO:-0600
TZNAME:MDT
DTSTART:20170312T090000
END:DAYLIGHT
BEGIN:STANDARD
TZOFFSETFROM:-0600
TZOFFSETTO:-0700
TZNAME:MST
DTSTART:20171105T080000
END:STANDARD
BEGIN:DAYLIGHT
TZOFFSETFROM:-0700
TZOFFSETTO:-0600
TZNAME:MDT
DTSTART:20180311T090000
END:DAYLIGHT
BEGIN:STANDARD
TZOFFSETFROM:-0600
TZOFFSETTO:-0700
TZNAME:MST
DTSTART:20181104T080000
END:STANDARD
BEGIN:DAYLIGHT
TZOFFSETFROM:-0700
TZOFFSETTO:-0600
TZNAME:MDT
DTSTART:20190310T090000
END:DAYLIGHT
BEGIN:STANDARD
TZOFFSETFROM:-0600
TZOFFSETTO:-0700
TZNAME:MST
DTSTART:20191103T080000
END:STANDARD
END:VTIMEZONE
BEGIN:VEVENT
DTSTART;TZID=America/Denver:20180927T103000
DTEND;TZID=America/Denver:20180927T233000
DTSTAMP:20260419T112801
CREATED:20180915T022033Z
LAST-MODIFIED:20180916T220519Z
UID:11896-1538044200-1538091000@www.amssa.org
SUMMARY:AMSSA Media Event: Immigration for BC's Future
DESCRIPTION:AMSSA\, with the Immigrant Integration Coordinating Committee (IICC)\, undertook a Provincial Engagement Strategy project with the objective to: \n\nIdentify key gaps in services and/or policies between what is currently being supported by the federal government of Canada and the provincial government of BC\, with the actual needs of newcomers to BC.\nIdentify what strategies have been successful in providing support to newcomers in BC.\nUse the gaps and best practices identified to formulate specific recommendations on how the provincial government of BC can enhance co-managing and co-planning of immigration with the federal government\, the municipalities and the settlement sector.\n\nWe are hosting a media event to launch the report titled Immigration for BC’s Future: A Call for Action to Strengthen Newcomer Integration. \nWe hope you can join us! \nEvent Details: \nWhen: Thursday\, September 27\, 2018 \nTime: 10:30 AM – 11:30 AM PDT (Note the time change from the originally announced 9:30 AM) \nIn-person attendance: Dr. Sun Yat-Sen Classical Chinese Garden\, 578 Carrall Street\, Vancouver\, BC \nOnline attendance: The event will be live broadcast online. Registrants who choose the online attendance option will receive a link by e-mail. \nRegistration is required due to limited space. Registration will close on September 25\, 2018. \nRegister by clicking here.
URL:https://www.amssa.org/amssa-events/media-event-immigration-for-bcs-future/
LOCATION:Dr. Sun Yat-Sen Classical Chinese Garden\, 578 Carrall Street\, Vancouver\, BC\, V5N 4C8\, Canada
END:VEVENT
END:VCALENDAR