BEGIN:VCALENDAR
VERSION:2.0
PRODID:-//AMSSA - ECPv6.15.18//NONSGML v1.0//EN
CALSCALE:GREGORIAN
METHOD:PUBLISH
X-ORIGINAL-URL:https://www.amssa.org
X-WR-CALDESC:Events for AMSSA
REFRESH-INTERVAL;VALUE=DURATION:PT1H
X-Robots-Tag:noindex
X-PUBLISHED-TTL:PT1H
BEGIN:VTIMEZONE
TZID:America/Denver
BEGIN:DAYLIGHT
TZOFFSETFROM:-0700
TZOFFSETTO:-0600
TZNAME:MDT
DTSTART:20170312T090000
END:DAYLIGHT
BEGIN:STANDARD
TZOFFSETFROM:-0600
TZOFFSETTO:-0700
TZNAME:MST
DTSTART:20171105T080000
END:STANDARD
BEGIN:DAYLIGHT
TZOFFSETFROM:-0700
TZOFFSETTO:-0600
TZNAME:MDT
DTSTART:20180311T090000
END:DAYLIGHT
BEGIN:STANDARD
TZOFFSETFROM:-0600
TZOFFSETTO:-0700
TZNAME:MST
DTSTART:20181104T080000
END:STANDARD
BEGIN:DAYLIGHT
TZOFFSETFROM:-0700
TZOFFSETTO:-0600
TZNAME:MDT
DTSTART:20190310T090000
END:DAYLIGHT
BEGIN:STANDARD
TZOFFSETFROM:-0600
TZOFFSETTO:-0700
TZNAME:MST
DTSTART:20191103T080000
END:STANDARD
END:VTIMEZONE
BEGIN:VEVENT
DTSTART;TZID=America/Denver:20180911T110000
DTEND;TZID=America/Denver:20180911T123000
DTSTAMP:20260419T082420
CREATED:20180823T203928Z
LAST-MODIFIED:20180823T204028Z
UID:11743-1536663600-1536669000@www.amssa.org
SUMMARY:Introduction to BC Labour Market – City of Vancouver as an employer
DESCRIPTION:Join Kiwassa Neighbourhood House and City of Vancouver at a free workshop “Introduction to BC Labour Market – City of Vancouver as an employer.” \nWhen: Tuesday\, September 11\, 2017 from 11:00 AM – 12:30 PM \nWhere: Renfrew branch – Vancouver Public Library\, 2969 E. 22nd Avenue \nFee workshop. Drop-ins welcome. Registration required. \nConducted in English with Chinese assistance \nLearn from the employer – City of Vancouver \nThis workshop provides information on: \n\nTypes of jobs in the City of Vancouver\nUnderstanding job application process\n“Do and Don’t” in an job application\n\nFor more information\, please visit www.kiwassa.ca or contact Teresa 604-254-5401 ext. 249
URL:https://www.amssa.org/amssa-events/introduction-to-bc-labour-market-city-of-vancouver-as-an-employer/
LOCATION:Renfrew branch\, Vancouver Public Library\, 2696 E.22nd Avenue\, Vancouver\, BC\, Canada
END:VEVENT
END:VCALENDAR