BEGIN:VCALENDAR
VERSION:2.0
PRODID:-//AMSSA - ECPv6.15.18//NONSGML v1.0//EN
CALSCALE:GREGORIAN
METHOD:PUBLISH
X-ORIGINAL-URL:https://www.amssa.org
X-WR-CALDESC:Events for AMSSA
REFRESH-INTERVAL;VALUE=DURATION:PT1H
X-Robots-Tag:noindex
X-PUBLISHED-TTL:PT1H
BEGIN:VTIMEZONE
TZID:America/Denver
BEGIN:DAYLIGHT
TZOFFSETFROM:-0700
TZOFFSETTO:-0600
TZNAME:MDT
DTSTART:20170312T090000
END:DAYLIGHT
BEGIN:STANDARD
TZOFFSETFROM:-0600
TZOFFSETTO:-0700
TZNAME:MST
DTSTART:20171105T080000
END:STANDARD
BEGIN:DAYLIGHT
TZOFFSETFROM:-0700
TZOFFSETTO:-0600
TZNAME:MDT
DTSTART:20180311T090000
END:DAYLIGHT
BEGIN:STANDARD
TZOFFSETFROM:-0600
TZOFFSETTO:-0700
TZNAME:MST
DTSTART:20181104T080000
END:STANDARD
BEGIN:DAYLIGHT
TZOFFSETFROM:-0700
TZOFFSETTO:-0600
TZNAME:MDT
DTSTART:20190310T090000
END:DAYLIGHT
BEGIN:STANDARD
TZOFFSETFROM:-0600
TZOFFSETTO:-0700
TZNAME:MST
DTSTART:20191103T080000
END:STANDARD
END:VTIMEZONE
BEGIN:VEVENT
DTSTART;TZID=America/Denver:20180817T110000
DTEND;TZID=America/Denver:20180817T150000
DTSTAMP:20260420T001727
CREATED:20180817T235232Z
LAST-MODIFIED:20180817T235232Z
UID:11715-1534503600-1534518000@www.amssa.org
SUMMARY:Canadian BBQ in Stanley Park
DESCRIPTION:Canadian BBQ in Stanley Park presented by YMCA is a free program for permanent residents and refugees. \nJoin the YMCA for a traditional Canadian activity – an outdoor BBQ! \n\nGames and activities for the whole family and free BBQ\nEnjoy the beautifful outdoors at Stanley Park\nGreat for the whole family – all ages welcome!\nBring a water bottle and don’t forget to where sun protection\n\nWhen: Sunday\, August 19\, 2018 from 10:30 AM – 3:00 PM\n* bring a picnic/potluck dish to share with the rest of the group – hot dog and burgers will be available \nMeet at: Minature Railway picnic site #1 – Stanley Park\, Vancouver\, BC V6G 1Z4 \nRegistration is required. For my information and to register by click here or call 604-685-8066. \n 
URL:https://www.amssa.org/amssa-events/canadian-bbq-in-stanley-park/
LOCATION:Stanley Park\, Vancouver\, BC\, V6G 1Z4\, Canada
END:VEVENT
END:VCALENDAR